BEGIN:VCALENDAR
VERSION:2.0
PRODID:-//achurchnearyou.com//eventfeed//EN
CALSCALE:GREGORIAN
METHOD:PUBLISH
X-WR-TIMEZONE:UTC
BEGIN:VEVENT
SUMMARY:Fr Joabe's Farewell Service
DTSTART:20260125T120000Z
DTEND:20260125T133000Z
DTSTAMP:20260423T152448Z
UID:12743882026-01-25 12:00:00+00:00achurchnearyou
CATEGORIES:
DESCRIPTION:This is a Thanksgiving and Farewell service as after 17 years 
 of joyful ministry at St Barnabas Mitcham\, Fr Joabe is moving on to be th
 e Vicar of Christ Church Clapham.
GEO:-0.157722;51.416567
LOCATION:Mitcham\, St Barnabas
URL:https://www.achurchnearyou.com/church/707/service-and-events/events/12
 74388/
END:VEVENT
END:VCALENDAR
