BEGIN:VCALENDAR
VERSION:2.0
PRODID:-//achurchnearyou.com//eventfeed//EN
CALSCALE:GREGORIAN
METHOD:PUBLISH
X-WR-TIMEZONE:UTC
BEGIN:VEVENT
SUMMARY:Maundy Thursday Mass and Vigil
DTSTART:20250417T183000Z
DTEND:20250417T193000Z
DTSTAMP:20260424T192658Z
UID:11882162025-04-17 18:30:00+00:00achurchnearyou
CATEGORIES:
DESCRIPTION:During the mass\, a sermon is preached. The priest will wash t
 he feet of some of his parishioners. The Altar is stripped. A vigil (a tim
 e of prayer) is kept in church for an hour for those who wish to stay.
GEO:-0.139894;51.407943
LOCATION:Mitcham\, St Olave
URL:https://www.achurchnearyou.com/church/709/service-and-events/events/11
 88216/
END:VEVENT
END:VCALENDAR
