BEGIN:VCALENDAR
VERSION:2.0
PRODID:-//achurchnearyou.com//eventfeed//EN
CALSCALE:GREGORIAN
METHOD:PUBLISH
X-WR-TIMEZONE:UTC
BEGIN:VEVENT
SUMMARY:Carols and Blessing of the Crib
DTSTART:20251224T183000Z
DTEND:20251224T193000Z
DTSTAMP:20260423T180457Z
UID:12759912025-12-24 18:30:00+00:00achurchnearyou
CATEGORIES:
DESCRIPTION:A service of short readings\, carols and blessing of the Crib
GEO:-0.139894;51.407943
LOCATION:Mitcham\, St Olave
URL:https://www.stolavemitcham.org/
END:VEVENT
END:VCALENDAR
