BEGIN:VCALENDAR
VERSION:2.0
PRODID:-//achurchnearyou.com//eventfeed//EN
CALSCALE:GREGORIAN
METHOD:PUBLISH
X-WR-TIMEZONE:UTC
BEGIN:VEVENT
SUMMARY:Christmas Eve Holy Communion
DTSTART:20251224T100000Z
DTEND:20251224T110000Z
DTSTAMP:20260422T110748Z
UID:12687852025-12-24 10:00:00+00:00achurchnearyou
CATEGORIES:
DESCRIPTION:A spoken service with prayers and communion
GEO:-1.927497;52.477582
LOCATION:St John's & St Peter's
URL:https://www.achurchnearyou.com/church/7160/service-and-events/events/1
 268785/
END:VEVENT
END:VCALENDAR
