BEGIN:VCALENDAR
VERSION:2.0
PRODID:-//achurchnearyou.com//eventfeed//EN
CALSCALE:GREGORIAN
METHOD:PUBLISH
X-WR-TIMEZONE:UTC
BEGIN:VEVENT
SUMMARY:Churches Together in Harborne: Prayer Walk
DTSTART:20250418T074500Z
DTEND:20250418T094500Z
DTSTAMP:20260425T161631Z
UID:11801792025-04-18 07:45:00+00:00achurchnearyou
CATEGORIES:
DESCRIPTION:Join Churches Together in Harborne\, as members of local churc
 hes prayer walk around Harborne on Good Friday. The CTH Prayer Walk will c
 onclude in an Open Air Service at 10.30am to mark the events of Good Frida
 y. Hot cross buns and refreshments will be served at Harborne Baptist Chur
 ch following the service\, everyone welcome. \n\nRoute Details:\n8.45am 
 • Meet at St Faith & St Laurence Church \nJunction of Balden Road & Crof
 tdown Road\, B32 2EL\n\n8.55am • Leave St Faith & St Laurence\nvia Court
  Oak Road\, Lordswood Road\, Albert Road\, St Peter's Road\n\n9.30am • S
 t Peter's \nOld Church Road\n\n9.45am • Harborne Baptist Church\nVia Har
 borne Park Road\n\n9.55am • St Mary's \nVivian Road\n\n10.05am • St Jo
 hn's Harborne\nVivian Road side\n\n10.15am • Oasis Church\nSouth Street\
 n\n10.30am Open Air Service\non Harborne High Street\, near Boots
GEO:-1.951576;52.458086
LOCATION:St John's Harborne
URL:https://www.stjohnsharborne.org/easter
END:VEVENT
END:VCALENDAR
