BEGIN:VCALENDAR
VERSION:2.0
PRODID:-//achurchnearyou.com//eventfeed//EN
CALSCALE:GREGORIAN
METHOD:PUBLISH
X-WR-TIMEZONE:UTC
BEGIN:VEVENT
SUMMARY:Powerhouse
DTSTART;TZID=Europe/London:20250402T200000
DTEND;TZID=Europe/London:20250402T213000
DTSTAMP:20260424T040329Z
UID:8196182025-04-02 20:00:00+01:00achurchnearyou
CATEGORIES:
DESCRIPTION:Are you hungry to see God’s kingdom come? As a whole church 
 community\, we want to revitalise our prayer life\, with confidence that t
 he Holy Spirit will meet with us in a powerful way as we bring the needs o
 f the world and our church to God. We encourage you to come as individuals
  or small groups to celebrate together God’s ongoing work in our world.\
 nPowerhouse is held monthly on first Wednesdays except in holiday periods.
GEO:-1.951576;52.458086
LOCATION:St John's Harborne
URL:https://www.stjohnsharborne.org/calendar
END:VEVENT
BEGIN:VEVENT
SUMMARY:Powerhouse
DTSTART;TZID=Europe/London:20250507T200000
DTEND;TZID=Europe/London:20250507T213000
DTSTAMP:20260424T040329Z
UID:8196182025-05-07 20:00:00+01:00achurchnearyou
CATEGORIES:
DESCRIPTION:Are you hungry to see God’s kingdom come? As a whole church 
 community\, we want to revitalise our prayer life\, with confidence that t
 he Holy Spirit will meet with us in a powerful way as we bring the needs o
 f the world and our church to God. We encourage you to come as individuals
  or small groups to celebrate together God’s ongoing work in our world.\
 nPowerhouse is held monthly on first Wednesdays except in holiday periods.
GEO:-1.951576;52.458086
LOCATION:St John's Harborne
URL:https://www.stjohnsharborne.org/calendar
END:VEVENT
BEGIN:VEVENT
SUMMARY:Powerhouse
DTSTART;TZID=Europe/London:20250604T200000
DTEND;TZID=Europe/London:20250604T213000
DTSTAMP:20260424T040329Z
UID:8196182025-06-04 20:00:00+01:00achurchnearyou
CATEGORIES:
DESCRIPTION:Are you hungry to see God’s kingdom come? As a whole church 
 community\, we want to revitalise our prayer life\, with confidence that t
 he Holy Spirit will meet with us in a powerful way as we bring the needs o
 f the world and our church to God. We encourage you to come as individuals
  or small groups to celebrate together God’s ongoing work in our world.\
 nPowerhouse is held monthly on first Wednesdays except in holiday periods.
GEO:-1.951576;52.458086
LOCATION:St John's Harborne
URL:https://www.stjohnsharborne.org/calendar
END:VEVENT
BEGIN:VEVENT
SUMMARY:Powerhouse
DTSTART;TZID=Europe/London:20250903T200000
DTEND;TZID=Europe/London:20250903T213000
DTSTAMP:20260424T040329Z
UID:8196182025-09-03 20:00:00+01:00achurchnearyou
CATEGORIES:
DESCRIPTION:Are you hungry to see God’s kingdom come? As a whole church 
 community\, we want to revitalise our prayer life\, with confidence that t
 he Holy Spirit will meet with us in a powerful way as we bring the needs o
 f the world and our church to God. We encourage you to come as individuals
  or small groups to celebrate together God’s ongoing work in our world.\
 nPowerhouse is held monthly on first Wednesdays except in holiday periods.
GEO:-1.951576;52.458086
LOCATION:St John's Harborne
URL:https://www.stjohnsharborne.org/calendar
END:VEVENT
BEGIN:VEVENT
SUMMARY:Powerhouse
DTSTART;TZID=Europe/London:20251001T200000
DTEND;TZID=Europe/London:20251001T213000
DTSTAMP:20260424T040329Z
UID:8196182025-10-01 20:00:00+01:00achurchnearyou
CATEGORIES:
DESCRIPTION:Are you hungry to see God’s kingdom come? As a whole church 
 community\, we want to revitalise our prayer life\, with confidence that t
 he Holy Spirit will meet with us in a powerful way as we bring the needs o
 f the world and our church to God. We encourage you to come as individuals
  or small groups to celebrate together God’s ongoing work in our world.\
 nPowerhouse is held monthly on first Wednesdays except in holiday periods.
GEO:-1.951576;52.458086
LOCATION:St John's Harborne
URL:https://www.stjohnsharborne.org/calendar
END:VEVENT
BEGIN:VEVENT
SUMMARY:Powerhouse
DTSTART;TZID=Europe/London:20251105T200000
DTEND;TZID=Europe/London:20251105T213000
DTSTAMP:20260424T040329Z
UID:8196182025-11-05 20:00:00+00:00achurchnearyou
CATEGORIES:
DESCRIPTION:Are you hungry to see God’s kingdom come? As a whole church 
 community\, we want to revitalise our prayer life\, with confidence that t
 he Holy Spirit will meet with us in a powerful way as we bring the needs o
 f the world and our church to God. We encourage you to come as individuals
  or small groups to celebrate together God’s ongoing work in our world.\
 nPowerhouse is held monthly on first Wednesdays except in holiday periods.
GEO:-1.951576;52.458086
LOCATION:St John's Harborne
URL:https://www.stjohnsharborne.org/calendar
END:VEVENT
BEGIN:VEVENT
SUMMARY:Powerhouse
DTSTART;TZID=Europe/London:20251203T200000
DTEND;TZID=Europe/London:20251203T213000
DTSTAMP:20260424T040329Z
UID:8196182025-12-03 20:00:00+00:00achurchnearyou
CATEGORIES:
DESCRIPTION:Are you hungry to see God’s kingdom come? As a whole church 
 community\, we want to revitalise our prayer life\, with confidence that t
 he Holy Spirit will meet with us in a powerful way as we bring the needs o
 f the world and our church to God. We encourage you to come as individuals
  or small groups to celebrate together God’s ongoing work in our world.\
 nPowerhouse is held monthly on first Wednesdays except in holiday periods.
GEO:-1.951576;52.458086
LOCATION:St John's Harborne
URL:https://www.stjohnsharborne.org/calendar
END:VEVENT
BEGIN:VEVENT
SUMMARY:Powerhouse
DTSTART;TZID=Europe/London:20260107T200000
DTEND;TZID=Europe/London:20260107T213000
DTSTAMP:20260424T040329Z
UID:8196182026-01-07 20:00:00+00:00achurchnearyou
CATEGORIES:
DESCRIPTION:Are you hungry to see God’s kingdom come? As a whole church 
 community\, we want to revitalise our prayer life\, with confidence that t
 he Holy Spirit will meet with us in a powerful way as we bring the needs o
 f the world and our church to God. We encourage you to come as individuals
  or small groups to celebrate together God’s ongoing work in our world.\
 nPowerhouse is held monthly on first Wednesdays except in holiday periods.
GEO:-1.951576;52.458086
LOCATION:St John's Harborne
URL:https://www.stjohnsharborne.org/calendar
END:VEVENT
BEGIN:VEVENT
SUMMARY:Powerhouse
DTSTART;TZID=Europe/London:20260204T200000
DTEND;TZID=Europe/London:20260204T213000
DTSTAMP:20260424T040329Z
UID:8196182026-02-04 20:00:00+00:00achurchnearyou
CATEGORIES:
DESCRIPTION:Are you hungry to see God’s kingdom come? As a whole church 
 community\, we want to revitalise our prayer life\, with confidence that t
 he Holy Spirit will meet with us in a powerful way as we bring the needs o
 f the world and our church to God. We encourage you to come as individuals
  or small groups to celebrate together God’s ongoing work in our world.\
 nPowerhouse is held monthly on first Wednesdays except in holiday periods.
GEO:-1.951576;52.458086
LOCATION:St John's Harborne
URL:https://www.stjohnsharborne.org/calendar
END:VEVENT
BEGIN:VEVENT
SUMMARY:Powerhouse
DTSTART;TZID=Europe/London:20260304T200000
DTEND;TZID=Europe/London:20260304T213000
DTSTAMP:20260424T040329Z
UID:8196182026-03-04 20:00:00+00:00achurchnearyou
CATEGORIES:
DESCRIPTION:Are you hungry to see God’s kingdom come? As a whole church 
 community\, we want to revitalise our prayer life\, with confidence that t
 he Holy Spirit will meet with us in a powerful way as we bring the needs o
 f the world and our church to God. We encourage you to come as individuals
  or small groups to celebrate together God’s ongoing work in our world.\
 nPowerhouse is held monthly on first Wednesdays except in holiday periods.
GEO:-1.951576;52.458086
LOCATION:St John's Harborne
URL:https://www.stjohnsharborne.org/calendar
END:VEVENT
BEGIN:VEVENT
SUMMARY:Powerhouse
DTSTART;TZID=Europe/London:20260401T200000
DTEND;TZID=Europe/London:20260401T213000
DTSTAMP:20260424T040329Z
UID:8196182026-04-01 20:00:00+01:00achurchnearyou
CATEGORIES:
DESCRIPTION:Are you hungry to see God’s kingdom come? As a whole church 
 community\, we want to revitalise our prayer life\, with confidence that t
 he Holy Spirit will meet with us in a powerful way as we bring the needs o
 f the world and our church to God. We encourage you to come as individuals
  or small groups to celebrate together God’s ongoing work in our world.\
 nPowerhouse is held monthly on first Wednesdays except in holiday periods.
GEO:-1.951576;52.458086
LOCATION:St John's Harborne
URL:https://www.stjohnsharborne.org/calendar
END:VEVENT
BEGIN:VEVENT
SUMMARY:Powerhouse
DTSTART;TZID=Europe/London:20260506T200000
DTEND;TZID=Europe/London:20260506T213000
DTSTAMP:20260424T040329Z
UID:8196182026-05-06 20:00:00+01:00achurchnearyou
CATEGORIES:
DESCRIPTION:Are you hungry to see God’s kingdom come? As a whole church 
 community\, we want to revitalise our prayer life\, with confidence that t
 he Holy Spirit will meet with us in a powerful way as we bring the needs o
 f the world and our church to God. We encourage you to come as individuals
  or small groups to celebrate together God’s ongoing work in our world.\
 nPowerhouse is held monthly on first Wednesdays except in holiday periods.
GEO:-1.951576;52.458086
LOCATION:St John's Harborne
URL:https://www.stjohnsharborne.org/calendar
END:VEVENT
BEGIN:VEVENT
SUMMARY:Powerhouse
DTSTART;TZID=Europe/London:20260603T200000
DTEND;TZID=Europe/London:20260603T213000
DTSTAMP:20260424T040329Z
UID:8196182026-06-03 20:00:00+01:00achurchnearyou
CATEGORIES:
DESCRIPTION:Are you hungry to see God’s kingdom come? As a whole church 
 community\, we want to revitalise our prayer life\, with confidence that t
 he Holy Spirit will meet with us in a powerful way as we bring the needs o
 f the world and our church to God. We encourage you to come as individuals
  or small groups to celebrate together God’s ongoing work in our world.\
 nPowerhouse is held monthly on first Wednesdays except in holiday periods.
GEO:-1.951576;52.458086
LOCATION:St John's Harborne
URL:https://www.stjohnsharborne.org/calendar
END:VEVENT
BEGIN:VEVENT
SUMMARY:Powerhouse
DTSTART;TZID=Europe/London:20260701T200000
DTEND;TZID=Europe/London:20260701T213000
DTSTAMP:20260424T040329Z
UID:8196182026-07-01 20:00:00+01:00achurchnearyou
CATEGORIES:
DESCRIPTION:Are you hungry to see God’s kingdom come? As a whole church 
 community\, we want to revitalise our prayer life\, with confidence that t
 he Holy Spirit will meet with us in a powerful way as we bring the needs o
 f the world and our church to God. We encourage you to come as individuals
  or small groups to celebrate together God’s ongoing work in our world.\
 nPowerhouse is held monthly on first Wednesdays except in holiday periods.
GEO:-1.951576;52.458086
LOCATION:St John's Harborne
URL:https://www.stjohnsharborne.org/calendar
END:VEVENT
BEGIN:VEVENT
SUMMARY:Powerhouse
DTSTART;TZID=Europe/London:20250702T200000
DTEND;TZID=Europe/London:20250702T213000
DTSTAMP:20260424T040329Z
UID:8196182025-07-02 20:00:00+01:00achurchnearyou
CATEGORIES:
DESCRIPTION:Are you hungry to see God’s kingdom come? As a whole church 
 community\, we want to revitalise our prayer life\, with confidence that t
 he Holy Spirit will meet with us in a powerful way as we bring the needs o
 f the world and our church to God. We encourage you to come as individuals
  or small groups to celebrate together God’s ongoing work in our world.\
 nPowerhouse is held monthly on first Wednesdays except in holiday periods.
GEO:-1.951576;52.458086
LOCATION:St John's Harborne
URL:https://www.stjohnsharborne.org/calendar
END:VEVENT
END:VCALENDAR
