BEGIN:VCALENDAR
VERSION:2.0
PRODID:-//achurchnearyou.com//eventfeed//EN
CALSCALE:GREGORIAN
METHOD:PUBLISH
X-WR-TIMEZONE:UTC
BEGIN:VEVENT
SUMMARY:Said Eucharist
DTSTART:20250414T110000Z
DTEND:20250414T113000Z
DTSTAMP:20260425T032821Z
UID:11793362025-04-14 11:00:00+00:00achurchnearyou
CATEGORIES:
DESCRIPTION:Said Eucharist (Common Worship) in the Wyrley chapel
GEO:-1.91931;52.510678
LOCATION:St Mary
URL:https://www.achurchnearyou.com/church/7180/service-and-events/events/1
 179336/
END:VEVENT
END:VCALENDAR
