BEGIN:VCALENDAR
VERSION:2.0
PRODID:-//achurchnearyou.com//eventfeed//EN
CALSCALE:GREGORIAN
METHOD:PUBLISH
X-WR-TIMEZONE:UTC
BEGIN:VEVENT
SUMMARY:Compline during Holy Week
DTSTART:20250414T180000Z
DTEND:20250414T183000Z
DTSTAMP:20260425T050528Z
UID:11793442025-04-14 18:00:00+00:00achurchnearyou
CATEGORIES:
DESCRIPTION:A quiet Common Worship service of prayer to end the day
GEO:-1.91931;52.510678
LOCATION:St Mary
URL:https://www.achurchnearyou.com/church/7180/service-and-events/events/1
 179344/
END:VEVENT
END:VCALENDAR
