BEGIN:VCALENDAR
VERSION:2.0
PRODID:-//achurchnearyou.com//eventfeed//EN
CALSCALE:GREGORIAN
METHOD:PUBLISH
X-WR-TIMEZONE:UTC
BEGIN:VEVENT
SUMMARY:Foot washing\, liturgy of the Last Super and Vigil
DTSTART:20260402T180000Z
DTEND:20260402T190000Z
DTSTAMP:20260423T083910Z
UID:13138242026-04-02 18:00:00+00:00achurchnearyou
CATEGORIES:
DESCRIPTION:The Foot Washing\, Liturgy of the Last Supper\, and Vigil is a
  solemn service remembering Jesus washing his disciples’ feet\, sharing 
 the Last Supper\, and watching in prayer before his arrest.
GEO:-1.91931;52.510678
LOCATION:St Mary
URL:https://handsworthstmary.org/holy-week-easter-2026/
END:VEVENT
END:VCALENDAR
