BEGIN:VCALENDAR
VERSION:2.0
PRODID:-//achurchnearyou.com//eventfeed//EN
CALSCALE:GREGORIAN
METHOD:PUBLISH
X-WR-TIMEZONE:UTC
BEGIN:VEVENT
SUMMARY:Christingle Mass
DTSTART:20251130T111500Z
DTEND:20251130T123000Z
DTSTAMP:20260419T202803Z
UID:12552582025-11-30 11:15:00+00:00achurchnearyou
CATEGORIES:
DESCRIPTION:Sweet smelling oranges\, candlelight and sweets to mark the ne
 w church year this Advent Sunday as we look ahead towards the joy of Chris
 tmas and seek to prepare ourselves through the days of December
GEO:-1.92391;52.500333
LOCATION:St Michael's\, Soho Hill\, Handsworth
URL:https://www.achurchnearyou.com/church/7182/service-and-events/events/1
 255258/
END:VEVENT
END:VCALENDAR
