BEGIN:VCALENDAR
VERSION:2.0
PRODID:-//achurchnearyou.com//eventfeed//EN
CALSCALE:GREGORIAN
METHOD:PUBLISH
X-WR-TIMEZONE:UTC
BEGIN:VEVENT
SUMMARY:Messy Church
DTSTART:20260403T090000Z
DTEND:20260403T110000Z
DTSTAMP:20260426T032143Z
UID:13170302026-04-03 09:00:00+00:00achurchnearyou
CATEGORIES:
DESCRIPTION:Messy Church for Children and Adults\, All children must be ac
 companied by an adult.
GEO:-1.895446;52.539292
LOCATION:St Matthew
URL:https://www.stmatthewsperrybeeches.org.uk/
END:VEVENT
END:VCALENDAR
