BEGIN:VCALENDAR
VERSION:2.0
PRODID:-//achurchnearyou.com//eventfeed//EN
CALSCALE:GREGORIAN
METHOD:PUBLISH
X-WR-TIMEZONE:UTC
BEGIN:VEVENT
SUMMARY:Halloween Light Party - Friday 31st October 4.15-5.30pm
DTSTART:20251031T161500Z
DTEND:20251031T173000Z
DTSTAMP:20260424T095755Z
UID:12264142025-10-31 16:15:00+00:00achurchnearyou
CATEGORIES:
DESCRIPTION:FREE family Halloween Light Party.\nCrafts\, hot chocolate wit
 h marshmallows.\nDiscover the light amongst the darkness.
GEO:-1.9825;52.421881
LOCATION:St Bartholomew’s Church\, Allens Cross meeting at Holloway Hall
URL:https://www.achurchnearyou.com/church/7187/service-and-events/events/1
 226414/
END:VEVENT
END:VCALENDAR
