BEGIN:VCALENDAR
VERSION:2.0
PRODID:-//achurchnearyou.com//eventfeed//EN
CALSCALE:GREGORIAN
METHOD:PUBLISH
X-WR-TIMEZONE:UTC
BEGIN:VEVENT
SUMMARY:Good Friday Reflections
DTSTART:20250418T130000Z
DTEND:20250418T140000Z
DTSTAMP:20260424T175818Z
UID:11897872025-04-18 13:00:00+00:00achurchnearyou
CATEGORIES:
DESCRIPTION:Contemplative Good Friday Service at 2pm. \n\nThe church will 
 be open from 12-3pm for reflections.
GEO:-1.908671;52.41792
LOCATION:St Bede
URL:https://www.achurchnearyou.com/church/7189/service-and-events/events/1
 189787/
END:VEVENT
END:VCALENDAR
