BEGIN:VCALENDAR
VERSION:2.0
PRODID:-//achurchnearyou.com//eventfeed//EN
CALSCALE:GREGORIAN
METHOD:PUBLISH
X-WR-TIMEZONE:UTC
BEGIN:VEVENT
SUMMARY:Christmas Day Celebration at Hazelwell
DTSTART:20251225T100000Z
DTEND:20251225T110000Z
DTSTAMP:20260423T205623Z
UID:12606942025-12-25 10:00:00+00:00achurchnearyou
CATEGORIES:
DESCRIPTION:A joint service on Christmas morning to celebrate the birth of
  Christ. Everyone is welcome.
LOCATION:Hazelwell Church
URL:https://www.achurchnearyou.com/church/7189/service-and-events/events/1
 260694/
END:VEVENT
END:VCALENDAR
