BEGIN:VCALENDAR
VERSION:2.0
PRODID:-//achurchnearyou.com//eventfeed//EN
CALSCALE:GREGORIAN
METHOD:PUBLISH
X-WR-TIMEZONE:UTC
BEGIN:VEVENT
SUMMARY:Family Friendly Easter Service
DTSTART:20260405T090000Z
DTEND:20260405T100000Z
DTSTAMP:20260425T115850Z
UID:13068642026-04-05 09:00:00+00:00achurchnearyou
CATEGORIES:
DESCRIPTION:A very family-friendly service with the annual alleluia count 
 and plenty of chocolate!
GEO:-2.018624;52.393059
LOCATION:St Chad
URL:https://www.achurchnearyou.com/church/7197/service-and-events/events/1
 306864/
END:VEVENT
END:VCALENDAR
