BEGIN:VCALENDAR
VERSION:2.0
PRODID:-//achurchnearyou.com//eventfeed//EN
CALSCALE:GREGORIAN
METHOD:PUBLISH
X-WR-TIMEZONE:UTC
BEGIN:VEVENT
SUMMARY:Morning Praise
DTSTART;TZID=Europe/London:20260531T103000
DTEND;TZID=Europe/London:20260531T113000
DTSTAMP:20260423T083327Z
UID:8849292026-05-31 10:30:00+01:00achurchnearyou
CATEGORIES:
DESCRIPTION:Informal worship with Hymns and contemporary songs \, prayers 
 and sermon.  Groups for children.
GEO:-2.009553;52.375116
LOCATION:Holy Trinity\, Lickey
URL:http://www.lickeychurch.com
END:VEVENT
END:VCALENDAR
