BEGIN:VCALENDAR
VERSION:2.0
PRODID:-//achurchnearyou.com//eventfeed//EN
CALSCALE:GREGORIAN
METHOD:PUBLISH
X-WR-TIMEZONE:UTC
BEGIN:VEVENT
SUMMARY:8pm Maundy Thursday Holy Communion
DTSTART:20260402T190000Z
DTEND:20260402T200000Z
DTSTAMP:20260423T145902Z
UID:13140572026-04-02 19:00:00+00:00achurchnearyou
CATEGORIES:
DESCRIPTION:A simple Communion service for Maundy Thursday
GEO:-1.875161;52.439186
LOCATION:St Agnes\, Moseley
URL:https://www.achurchnearyou.com/church/7212/service-and-events/events/1
 314057/
END:VEVENT
END:VCALENDAR
