BEGIN:VCALENDAR
VERSION:2.0
PRODID:-//achurchnearyou.com//eventfeed//EN
CALSCALE:GREGORIAN
METHOD:PUBLISH
X-WR-TIMEZONE:UTC
BEGIN:VEVENT
SUMMARY:Blue Christmas Service
DTSTART:20251210T190000Z
DTEND:20251210T200000Z
DTSTAMP:20260424T073440Z
UID:12621732025-12-10 19:00:00+00:00achurchnearyou
CATEGORIES:
DESCRIPTION:Come join us as we gather: during the season of Advent when th
 e beauty of Christmas is around us\, we are also reminded of those close t
 o us who have passed and no longer with us during this time of celebration
 . \n\nOur annual Blue Christmas service is a time to remember and name th
 ose lost as we look forward with hope and peace. \n​​\nSong#480 O com
 e\, O come Immanuel \nSong#508 O Little town of Bethlehem\nSong#776 Away i
 n a manger \nSong#326 In the bleak midwinter\nSong#597 Silent Night
GEO:-1.864779;52.413598
LOCATION:Christ Church
URL:https://www.christchurchyw.com/
END:VEVENT
END:VCALENDAR
