BEGIN:VCALENDAR
VERSION:2.0
PRODID:-//achurchnearyou.com//eventfeed//EN
CALSCALE:GREGORIAN
METHOD:PUBLISH
X-WR-TIMEZONE:UTC
BEGIN:VEVENT
SUMMARY:Crib Service
DTSTART:20251224T160000Z
DTEND:20251224T170000Z
DTSTAMP:20260424T040134Z
UID:6089812025-12-24 16:00:00+00:00achurchnearyou
CATEGORIES:
DESCRIPTION:A fun service for all the family and a chance for your childre
 n to dress up and play their part in the nativity story as it unfolds.
GEO:-1.75091;52.49472
LOCATION:St Barnabas Church\, Kinghshurst
URL:https://www.achurchnearyou.com/church/7253/service-and-events/events/6
 08981/
END:VEVENT
END:VCALENDAR
