BEGIN:VCALENDAR
VERSION:2.0
PRODID:-//achurchnearyou.com//eventfeed//EN
CALSCALE:GREGORIAN
METHOD:PUBLISH
X-WR-TIMEZONE:UTC
BEGIN:VEVENT
SUMMARY:Remembrance Sunday Service
DTSTART:20251109T104500Z
DTEND:20251109T114500Z
DTSTAMP:20260424T053522Z
UID:8697362025-11-09 10:45:00+00:00achurchnearyou
CATEGORIES:
DESCRIPTION:Please note that our Remembrance Sunday Service (Sunday Novemb
 er 9th 2025) which replaces our usual Sunday Service begins outside the ch
 urch at 10.45am. We will be joined by members of Kingshurst Parish Council
 \, Kingshurst Girls’ Brigade and Kingshurst Scouts.
GEO:-1.75091;52.49472
LOCATION:St Barnabas Church\, Kinghshurst
URL:https://www.achurchnearyou.com/church/7253/service-and-events/events/8
 69736/
END:VEVENT
END:VCALENDAR
