BEGIN:VCALENDAR
VERSION:2.0
PRODID:-//achurchnearyou.com//eventfeed//EN
CALSCALE:GREGORIAN
METHOD:PUBLISH
X-WR-TIMEZONE:UTC
BEGIN:VEVENT
SUMMARY:Forest Church
DTSTART;TZID=Europe/London:20260425T123000
DTEND;TZID=Europe/London:20260425T140000
DTSTAMP:20260423T040430Z
UID:9002191777116600.0achurchnearyou
CATEGORIES:
DESCRIPTION:Worship outside in the churchyard and activities in the surrou
 nding woods\, finishing with tea/coffee and soup or hot dogs
GEO:-1.699833;52.531991
LOCATION:St John the Baptist\, Lea Marston
URL:https://www.achurchnearyou.com/church/7257/service-and-events/events/9
 00219/
END:VEVENT
BEGIN:VEVENT
SUMMARY:Forest Church
DTSTART;TZID=Europe/London:20260523T123000
DTEND;TZID=Europe/London:20260523T140000
DTSTAMP:20260423T040430Z
UID:9002191779535800.0achurchnearyou
CATEGORIES:
DESCRIPTION:Worship outside in the churchyard and activities in the surrou
 nding woods\, finishing with tea/coffee and soup or hot dogs
GEO:-1.699833;52.531991
LOCATION:St John the Baptist\, Lea Marston
URL:https://www.achurchnearyou.com/church/7257/service-and-events/events/9
 00219/
END:VEVENT
BEGIN:VEVENT
SUMMARY:Forest Church
DTSTART;TZID=Europe/London:20260627T123000
DTEND;TZID=Europe/London:20260627T140000
DTSTAMP:20260423T040430Z
UID:9002191782559800.0achurchnearyou
CATEGORIES:
DESCRIPTION:Worship outside in the churchyard and activities in the surrou
 nding woods\, finishing with tea/coffee and soup or hot dogs
GEO:-1.699833;52.531991
LOCATION:St John the Baptist\, Lea Marston
URL:https://www.achurchnearyou.com/church/7257/service-and-events/events/9
 00219/
END:VEVENT
BEGIN:VEVENT
SUMMARY:Forest Church
DTSTART;TZID=Europe/London:20260725T123000
DTEND;TZID=Europe/London:20260725T140000
DTSTAMP:20260423T040430Z
UID:9002191784979000.0achurchnearyou
CATEGORIES:
DESCRIPTION:Worship outside in the churchyard and activities in the surrou
 nding woods\, finishing with tea/coffee and soup or hot dogs
GEO:-1.699833;52.531991
LOCATION:St John the Baptist\, Lea Marston
URL:https://www.achurchnearyou.com/church/7257/service-and-events/events/9
 00219/
END:VEVENT
BEGIN:VEVENT
SUMMARY:Forest Church
DTSTART;TZID=Europe/London:20260822T123000
DTEND;TZID=Europe/London:20260822T140000
DTSTAMP:20260423T040430Z
UID:9002191787398200.0achurchnearyou
CATEGORIES:
DESCRIPTION:Worship outside in the churchyard and activities in the surrou
 nding woods\, finishing with tea/coffee and soup or hot dogs
GEO:-1.699833;52.531991
LOCATION:St John the Baptist\, Lea Marston
URL:https://www.achurchnearyou.com/church/7257/service-and-events/events/9
 00219/
END:VEVENT
BEGIN:VEVENT
SUMMARY:Forest Church
DTSTART;TZID=Europe/London:20260926T123000
DTEND;TZID=Europe/London:20260926T140000
DTSTAMP:20260423T040430Z
UID:9002191790422200.0achurchnearyou
CATEGORIES:
DESCRIPTION:Worship outside in the churchyard and activities in the surrou
 nding woods\, finishing with tea/coffee and soup or hot dogs
GEO:-1.699833;52.531991
LOCATION:St John the Baptist\, Lea Marston
URL:https://www.achurchnearyou.com/church/7257/service-and-events/events/9
 00219/
END:VEVENT
END:VCALENDAR
