BEGIN:VCALENDAR
VERSION:2.0
PRODID:-//achurchnearyou.com//eventfeed//EN
CALSCALE:GREGORIAN
METHOD:PUBLISH
X-WR-TIMEZONE:UTC
BEGIN:VEVENT
SUMMARY:11.30am Sunday Holy Communion
DTSTART;TZID=Europe/London:20260503T113000
DTEND;TZID=Europe/London:20260503T123000
DTSTAMP:20260423T060105Z
UID:10646082026-05-03 11:30:00+01:00achurchnearyou
CATEGORIES:
DESCRIPTION:The service includes Bible readings\, prayers\, hymns and a se
 rmon. Our children's area is open\, with a variety of toys\, books and act
 ivity sheets for children to enjoy.  \nChurch will be open from 11am for a
 nyone who wishes to come in for private prayer\, to light a candle or have
  a chat with others. You are very welcome to stay for refreshments afterwa
 rds. \nWe look forward to seeing you.
GEO:-1.776393;52.494465
LOCATION:All Saints Church\, Shard End
URL:https://www.achurchnearyou.com/church/7259/service-and-events/events/1
 064608/
END:VEVENT
BEGIN:VEVENT
SUMMARY:11.30am Sunday Holy Communion
DTSTART;TZID=Europe/London:20260517T113000
DTEND;TZID=Europe/London:20260517T123000
DTSTAMP:20260423T060105Z
UID:10646082026-05-17 11:30:00+01:00achurchnearyou
CATEGORIES:
DESCRIPTION:The service includes Bible readings\, prayers\, hymns and a se
 rmon. Our children's area is open\, with a variety of toys\, books and act
 ivity sheets for children to enjoy.  \nChurch will be open from 11am for a
 nyone who wishes to come in for private prayer\, to light a candle or have
  a chat with others. You are very welcome to stay for refreshments afterwa
 rds. \nWe look forward to seeing you.
GEO:-1.776393;52.494465
LOCATION:All Saints Church\, Shard End
URL:https://www.achurchnearyou.com/church/7259/service-and-events/events/1
 064608/
END:VEVENT
BEGIN:VEVENT
SUMMARY:11.30am Sunday Holy Communion
DTSTART;TZID=Europe/London:20260607T113000
DTEND;TZID=Europe/London:20260607T123000
DTSTAMP:20260423T060105Z
UID:10646082026-06-07 11:30:00+01:00achurchnearyou
CATEGORIES:
DESCRIPTION:The service includes Bible readings\, prayers\, hymns and a se
 rmon. Our children's area is open\, with a variety of toys\, books and act
 ivity sheets for children to enjoy.  \nChurch will be open from 11am for a
 nyone who wishes to come in for private prayer\, to light a candle or have
  a chat with others. You are very welcome to stay for refreshments afterwa
 rds. \nWe look forward to seeing you.
GEO:-1.776393;52.494465
LOCATION:All Saints Church\, Shard End
URL:https://www.achurchnearyou.com/church/7259/service-and-events/events/1
 064608/
END:VEVENT
BEGIN:VEVENT
SUMMARY:11.30am Sunday Holy Communion
DTSTART;TZID=Europe/London:20260621T113000
DTEND;TZID=Europe/London:20260621T123000
DTSTAMP:20260423T060105Z
UID:10646082026-06-21 11:30:00+01:00achurchnearyou
CATEGORIES:
DESCRIPTION:The service includes Bible readings\, prayers\, hymns and a se
 rmon. Our children's area is open\, with a variety of toys\, books and act
 ivity sheets for children to enjoy.  \nChurch will be open from 11am for a
 nyone who wishes to come in for private prayer\, to light a candle or have
  a chat with others. You are very welcome to stay for refreshments afterwa
 rds. \nWe look forward to seeing you.
GEO:-1.776393;52.494465
LOCATION:All Saints Church\, Shard End
URL:https://www.achurchnearyou.com/church/7259/service-and-events/events/1
 064608/
END:VEVENT
BEGIN:VEVENT
SUMMARY:11.30am Sunday Holy Communion
DTSTART;TZID=Europe/London:20260705T113000
DTEND;TZID=Europe/London:20260705T123000
DTSTAMP:20260423T060105Z
UID:10646082026-07-05 11:30:00+01:00achurchnearyou
CATEGORIES:
DESCRIPTION:The service includes Bible readings\, prayers\, hymns and a se
 rmon. Our children's area is open\, with a variety of toys\, books and act
 ivity sheets for children to enjoy.  \nChurch will be open from 11am for a
 nyone who wishes to come in for private prayer\, to light a candle or have
  a chat with others. You are very welcome to stay for refreshments afterwa
 rds. \nWe look forward to seeing you.
GEO:-1.776393;52.494465
LOCATION:All Saints Church\, Shard End
URL:https://www.achurchnearyou.com/church/7259/service-and-events/events/1
 064608/
END:VEVENT
BEGIN:VEVENT
SUMMARY:11.30am Sunday Holy Communion
DTSTART;TZID=Europe/London:20260719T113000
DTEND;TZID=Europe/London:20260719T123000
DTSTAMP:20260423T060105Z
UID:10646082026-07-19 11:30:00+01:00achurchnearyou
CATEGORIES:
DESCRIPTION:The service includes Bible readings\, prayers\, hymns and a se
 rmon. Our children's area is open\, with a variety of toys\, books and act
 ivity sheets for children to enjoy.  \nChurch will be open from 11am for a
 nyone who wishes to come in for private prayer\, to light a candle or have
  a chat with others. You are very welcome to stay for refreshments afterwa
 rds. \nWe look forward to seeing you.
GEO:-1.776393;52.494465
LOCATION:All Saints Church\, Shard End
URL:https://www.achurchnearyou.com/church/7259/service-and-events/events/1
 064608/
END:VEVENT
BEGIN:VEVENT
SUMMARY:11.30am Sunday Holy Communion
DTSTART;TZID=Europe/London:20260802T113000
DTEND;TZID=Europe/London:20260802T123000
DTSTAMP:20260423T060105Z
UID:10646082026-08-02 11:30:00+01:00achurchnearyou
CATEGORIES:
DESCRIPTION:The service includes Bible readings\, prayers\, hymns and a se
 rmon. Our children's area is open\, with a variety of toys\, books and act
 ivity sheets for children to enjoy.  \nChurch will be open from 11am for a
 nyone who wishes to come in for private prayer\, to light a candle or have
  a chat with others. You are very welcome to stay for refreshments afterwa
 rds. \nWe look forward to seeing you.
GEO:-1.776393;52.494465
LOCATION:All Saints Church\, Shard End
URL:https://www.achurchnearyou.com/church/7259/service-and-events/events/1
 064608/
END:VEVENT
BEGIN:VEVENT
SUMMARY:11.30am Sunday Holy Communion
DTSTART;TZID=Europe/London:20260816T113000
DTEND;TZID=Europe/London:20260816T123000
DTSTAMP:20260423T060105Z
UID:10646082026-08-16 11:30:00+01:00achurchnearyou
CATEGORIES:
DESCRIPTION:The service includes Bible readings\, prayers\, hymns and a se
 rmon. Our children's area is open\, with a variety of toys\, books and act
 ivity sheets for children to enjoy.  \nChurch will be open from 11am for a
 nyone who wishes to come in for private prayer\, to light a candle or have
  a chat with others. You are very welcome to stay for refreshments afterwa
 rds. \nWe look forward to seeing you.
GEO:-1.776393;52.494465
LOCATION:All Saints Church\, Shard End
URL:https://www.achurchnearyou.com/church/7259/service-and-events/events/1
 064608/
END:VEVENT
BEGIN:VEVENT
SUMMARY:11.30am Sunday Holy Communion
DTSTART;TZID=Europe/London:20260906T113000
DTEND;TZID=Europe/London:20260906T123000
DTSTAMP:20260423T060105Z
UID:10646082026-09-06 11:30:00+01:00achurchnearyou
CATEGORIES:
DESCRIPTION:The service includes Bible readings\, prayers\, hymns and a se
 rmon. Our children's area is open\, with a variety of toys\, books and act
 ivity sheets for children to enjoy.  \nChurch will be open from 11am for a
 nyone who wishes to come in for private prayer\, to light a candle or have
  a chat with others. You are very welcome to stay for refreshments afterwa
 rds. \nWe look forward to seeing you.
GEO:-1.776393;52.494465
LOCATION:All Saints Church\, Shard End
URL:https://www.achurchnearyou.com/church/7259/service-and-events/events/1
 064608/
END:VEVENT
BEGIN:VEVENT
SUMMARY:11.30am Sunday Holy Communion
DTSTART;TZID=Europe/London:20260920T113000
DTEND;TZID=Europe/London:20260920T123000
DTSTAMP:20260423T060105Z
UID:10646082026-09-20 11:30:00+01:00achurchnearyou
CATEGORIES:
DESCRIPTION:The service includes Bible readings\, prayers\, hymns and a se
 rmon. Our children's area is open\, with a variety of toys\, books and act
 ivity sheets for children to enjoy.  \nChurch will be open from 11am for a
 nyone who wishes to come in for private prayer\, to light a candle or have
  a chat with others. You are very welcome to stay for refreshments afterwa
 rds. \nWe look forward to seeing you.
GEO:-1.776393;52.494465
LOCATION:All Saints Church\, Shard End
URL:https://www.achurchnearyou.com/church/7259/service-and-events/events/1
 064608/
END:VEVENT
BEGIN:VEVENT
SUMMARY:11.30am Sunday Holy Communion
DTSTART;TZID=Europe/London:20261004T113000
DTEND;TZID=Europe/London:20261004T123000
DTSTAMP:20260423T060105Z
UID:10646082026-10-04 11:30:00+01:00achurchnearyou
CATEGORIES:
DESCRIPTION:The service includes Bible readings\, prayers\, hymns and a se
 rmon. Our children's area is open\, with a variety of toys\, books and act
 ivity sheets for children to enjoy.  \nChurch will be open from 11am for a
 nyone who wishes to come in for private prayer\, to light a candle or have
  a chat with others. You are very welcome to stay for refreshments afterwa
 rds. \nWe look forward to seeing you.
GEO:-1.776393;52.494465
LOCATION:All Saints Church\, Shard End
URL:https://www.achurchnearyou.com/church/7259/service-and-events/events/1
 064608/
END:VEVENT
BEGIN:VEVENT
SUMMARY:11.30am Sunday Holy Communion
DTSTART;TZID=Europe/London:20261018T113000
DTEND;TZID=Europe/London:20261018T123000
DTSTAMP:20260423T060105Z
UID:10646082026-10-18 11:30:00+01:00achurchnearyou
CATEGORIES:
DESCRIPTION:The service includes Bible readings\, prayers\, hymns and a se
 rmon. Our children's area is open\, with a variety of toys\, books and act
 ivity sheets for children to enjoy.  \nChurch will be open from 11am for a
 nyone who wishes to come in for private prayer\, to light a candle or have
  a chat with others. You are very welcome to stay for refreshments afterwa
 rds. \nWe look forward to seeing you.
GEO:-1.776393;52.494465
LOCATION:All Saints Church\, Shard End
URL:https://www.achurchnearyou.com/church/7259/service-and-events/events/1
 064608/
END:VEVENT
BEGIN:VEVENT
SUMMARY:11.30am Sunday Holy Communion
DTSTART;TZID=Europe/London:20261101T113000
DTEND;TZID=Europe/London:20261101T123000
DTSTAMP:20260423T060105Z
UID:10646082026-11-01 11:30:00+00:00achurchnearyou
CATEGORIES:
DESCRIPTION:The service includes Bible readings\, prayers\, hymns and a se
 rmon. Our children's area is open\, with a variety of toys\, books and act
 ivity sheets for children to enjoy.  \nChurch will be open from 11am for a
 nyone who wishes to come in for private prayer\, to light a candle or have
  a chat with others. You are very welcome to stay for refreshments afterwa
 rds. \nWe look forward to seeing you.
GEO:-1.776393;52.494465
LOCATION:All Saints Church\, Shard End
URL:https://www.achurchnearyou.com/church/7259/service-and-events/events/1
 064608/
END:VEVENT
BEGIN:VEVENT
SUMMARY:11.30am Sunday Holy Communion
DTSTART;TZID=Europe/London:20261115T113000
DTEND;TZID=Europe/London:20261115T123000
DTSTAMP:20260423T060105Z
UID:10646082026-11-15 11:30:00+00:00achurchnearyou
CATEGORIES:
DESCRIPTION:The service includes Bible readings\, prayers\, hymns and a se
 rmon. Our children's area is open\, with a variety of toys\, books and act
 ivity sheets for children to enjoy.  \nChurch will be open from 11am for a
 nyone who wishes to come in for private prayer\, to light a candle or have
  a chat with others. You are very welcome to stay for refreshments afterwa
 rds. \nWe look forward to seeing you.
GEO:-1.776393;52.494465
LOCATION:All Saints Church\, Shard End
URL:https://www.achurchnearyou.com/church/7259/service-and-events/events/1
 064608/
END:VEVENT
BEGIN:VEVENT
SUMMARY:11.30am Sunday Holy Communion
DTSTART;TZID=Europe/London:20261206T113000
DTEND;TZID=Europe/London:20261206T123000
DTSTAMP:20260423T060105Z
UID:10646082026-12-06 11:30:00+00:00achurchnearyou
CATEGORIES:
DESCRIPTION:The service includes Bible readings\, prayers\, hymns and a se
 rmon. Our children's area is open\, with a variety of toys\, books and act
 ivity sheets for children to enjoy.  \nChurch will be open from 11am for a
 nyone who wishes to come in for private prayer\, to light a candle or have
  a chat with others. You are very welcome to stay for refreshments afterwa
 rds. \nWe look forward to seeing you.
GEO:-1.776393;52.494465
LOCATION:All Saints Church\, Shard End
URL:https://www.achurchnearyou.com/church/7259/service-and-events/events/1
 064608/
END:VEVENT
BEGIN:VEVENT
SUMMARY:11.30am Sunday Holy Communion
DTSTART;TZID=Europe/London:20261220T113000
DTEND;TZID=Europe/London:20261220T123000
DTSTAMP:20260423T060105Z
UID:10646082026-12-20 11:30:00+00:00achurchnearyou
CATEGORIES:
DESCRIPTION:The service includes Bible readings\, prayers\, hymns and a se
 rmon. Our children's area is open\, with a variety of toys\, books and act
 ivity sheets for children to enjoy.  \nChurch will be open from 11am for a
 nyone who wishes to come in for private prayer\, to light a candle or have
  a chat with others. You are very welcome to stay for refreshments afterwa
 rds. \nWe look forward to seeing you.
GEO:-1.776393;52.494465
LOCATION:All Saints Church\, Shard End
URL:https://www.achurchnearyou.com/church/7259/service-and-events/events/1
 064608/
END:VEVENT
BEGIN:VEVENT
SUMMARY:11.30am Sunday Holy Communion
DTSTART;TZID=Europe/London:20270103T113000
DTEND;TZID=Europe/London:20270103T123000
DTSTAMP:20260423T060105Z
UID:10646082027-01-03 11:30:00+00:00achurchnearyou
CATEGORIES:
DESCRIPTION:The service includes Bible readings\, prayers\, hymns and a se
 rmon. Our children's area is open\, with a variety of toys\, books and act
 ivity sheets for children to enjoy.  \nChurch will be open from 11am for a
 nyone who wishes to come in for private prayer\, to light a candle or have
  a chat with others. You are very welcome to stay for refreshments afterwa
 rds. \nWe look forward to seeing you.
GEO:-1.776393;52.494465
LOCATION:All Saints Church\, Shard End
URL:https://www.achurchnearyou.com/church/7259/service-and-events/events/1
 064608/
END:VEVENT
BEGIN:VEVENT
SUMMARY:11.30am Sunday Holy Communion
DTSTART;TZID=Europe/London:20270117T113000
DTEND;TZID=Europe/London:20270117T123000
DTSTAMP:20260423T060105Z
UID:10646082027-01-17 11:30:00+00:00achurchnearyou
CATEGORIES:
DESCRIPTION:The service includes Bible readings\, prayers\, hymns and a se
 rmon. Our children's area is open\, with a variety of toys\, books and act
 ivity sheets for children to enjoy.  \nChurch will be open from 11am for a
 nyone who wishes to come in for private prayer\, to light a candle or have
  a chat with others. You are very welcome to stay for refreshments afterwa
 rds. \nWe look forward to seeing you.
GEO:-1.776393;52.494465
LOCATION:All Saints Church\, Shard End
URL:https://www.achurchnearyou.com/church/7259/service-and-events/events/1
 064608/
END:VEVENT
BEGIN:VEVENT
SUMMARY:11.30am Sunday Holy Communion
DTSTART;TZID=Europe/London:20270207T113000
DTEND;TZID=Europe/London:20270207T123000
DTSTAMP:20260423T060105Z
UID:10646082027-02-07 11:30:00+00:00achurchnearyou
CATEGORIES:
DESCRIPTION:The service includes Bible readings\, prayers\, hymns and a se
 rmon. Our children's area is open\, with a variety of toys\, books and act
 ivity sheets for children to enjoy.  \nChurch will be open from 11am for a
 nyone who wishes to come in for private prayer\, to light a candle or have
  a chat with others. You are very welcome to stay for refreshments afterwa
 rds. \nWe look forward to seeing you.
GEO:-1.776393;52.494465
LOCATION:All Saints Church\, Shard End
URL:https://www.achurchnearyou.com/church/7259/service-and-events/events/1
 064608/
END:VEVENT
BEGIN:VEVENT
SUMMARY:11.30am Sunday Holy Communion
DTSTART;TZID=Europe/London:20270221T113000
DTEND;TZID=Europe/London:20270221T123000
DTSTAMP:20260423T060105Z
UID:10646082027-02-21 11:30:00+00:00achurchnearyou
CATEGORIES:
DESCRIPTION:The service includes Bible readings\, prayers\, hymns and a se
 rmon. Our children's area is open\, with a variety of toys\, books and act
 ivity sheets for children to enjoy.  \nChurch will be open from 11am for a
 nyone who wishes to come in for private prayer\, to light a candle or have
  a chat with others. You are very welcome to stay for refreshments afterwa
 rds. \nWe look forward to seeing you.
GEO:-1.776393;52.494465
LOCATION:All Saints Church\, Shard End
URL:https://www.achurchnearyou.com/church/7259/service-and-events/events/1
 064608/
END:VEVENT
BEGIN:VEVENT
SUMMARY:11.30am Sunday Holy Communion
DTSTART;TZID=Europe/London:20270307T113000
DTEND;TZID=Europe/London:20270307T123000
DTSTAMP:20260423T060105Z
UID:10646082027-03-07 11:30:00+00:00achurchnearyou
CATEGORIES:
DESCRIPTION:The service includes Bible readings\, prayers\, hymns and a se
 rmon. Our children's area is open\, with a variety of toys\, books and act
 ivity sheets for children to enjoy.  \nChurch will be open from 11am for a
 nyone who wishes to come in for private prayer\, to light a candle or have
  a chat with others. You are very welcome to stay for refreshments afterwa
 rds. \nWe look forward to seeing you.
GEO:-1.776393;52.494465
LOCATION:All Saints Church\, Shard End
URL:https://www.achurchnearyou.com/church/7259/service-and-events/events/1
 064608/
END:VEVENT
BEGIN:VEVENT
SUMMARY:11.30am Sunday Holy Communion
DTSTART;TZID=Europe/London:20270321T113000
DTEND;TZID=Europe/London:20270321T123000
DTSTAMP:20260423T060105Z
UID:10646082027-03-21 11:30:00+00:00achurchnearyou
CATEGORIES:
DESCRIPTION:The service includes Bible readings\, prayers\, hymns and a se
 rmon. Our children's area is open\, with a variety of toys\, books and act
 ivity sheets for children to enjoy.  \nChurch will be open from 11am for a
 nyone who wishes to come in for private prayer\, to light a candle or have
  a chat with others. You are very welcome to stay for refreshments afterwa
 rds. \nWe look forward to seeing you.
GEO:-1.776393;52.494465
LOCATION:All Saints Church\, Shard End
URL:https://www.achurchnearyou.com/church/7259/service-and-events/events/1
 064608/
END:VEVENT
BEGIN:VEVENT
SUMMARY:11.30am Sunday Holy Communion
DTSTART;TZID=Europe/London:20270404T113000
DTEND;TZID=Europe/London:20270404T123000
DTSTAMP:20260423T060105Z
UID:10646082027-04-04 11:30:00+01:00achurchnearyou
CATEGORIES:
DESCRIPTION:The service includes Bible readings\, prayers\, hymns and a se
 rmon. Our children's area is open\, with a variety of toys\, books and act
 ivity sheets for children to enjoy.  \nChurch will be open from 11am for a
 nyone who wishes to come in for private prayer\, to light a candle or have
  a chat with others. You are very welcome to stay for refreshments afterwa
 rds. \nWe look forward to seeing you.
GEO:-1.776393;52.494465
LOCATION:All Saints Church\, Shard End
URL:https://www.achurchnearyou.com/church/7259/service-and-events/events/1
 064608/
END:VEVENT
BEGIN:VEVENT
SUMMARY:11.30am Sunday Holy Communion
DTSTART;TZID=Europe/London:20270418T113000
DTEND;TZID=Europe/London:20270418T123000
DTSTAMP:20260423T060105Z
UID:10646082027-04-18 11:30:00+01:00achurchnearyou
CATEGORIES:
DESCRIPTION:The service includes Bible readings\, prayers\, hymns and a se
 rmon. Our children's area is open\, with a variety of toys\, books and act
 ivity sheets for children to enjoy.  \nChurch will be open from 11am for a
 nyone who wishes to come in for private prayer\, to light a candle or have
  a chat with others. You are very welcome to stay for refreshments afterwa
 rds. \nWe look forward to seeing you.
GEO:-1.776393;52.494465
LOCATION:All Saints Church\, Shard End
URL:https://www.achurchnearyou.com/church/7259/service-and-events/events/1
 064608/
END:VEVENT
END:VCALENDAR
