BEGIN:VCALENDAR
VERSION:2.0
PRODID:-//achurchnearyou.com//eventfeed//EN
CALSCALE:GREGORIAN
METHOD:PUBLISH
X-WR-TIMEZONE:UTC
BEGIN:VEVENT
SUMMARY:Holy Communion for Mothering Sunday
DTSTART:20250330T103000Z
DTEND:20250330T113000Z
DTSTAMP:20260424T222551Z
UID:9017322025-03-30 10:30:00+00:00achurchnearyou
CATEGORIES:
DESCRIPTION:We will be joined by our friends from our sister church of St 
 Barnabas\, Kingshurst for a service which includes an all-age sermon. \n\n
 A small posy of flowers will be given out to all mothers and those who car
 e like mothers ought to do.\nChurch will be open from 9am for anyone who w
 ishes to come in for private prayer or to light a candle.\nEveryone is ver
 y welcome to stay for refreshments afterwards.
GEO:-1.776393;52.494465
LOCATION:All Saints Church\, Shard End
URL:https://www.achurchnearyou.com/church/7259/service-and-events/events/9
 01732/
END:VEVENT
END:VCALENDAR
