BEGIN:VCALENDAR
VERSION:2.0
PRODID:-//achurchnearyou.com//eventfeed//EN
CALSCALE:GREGORIAN
METHOD:PUBLISH
X-WR-TIMEZONE:UTC
BEGIN:VEVENT
SUMMARY:Stations of the Cross
DTSTART:20260401T090000Z
DTEND:20260401T093000Z
DTSTAMP:20260423T103653Z
UID:9047962026-04-01 09:00:00+00:00achurchnearyou
CATEGORIES:
DESCRIPTION:A reflective walk inside church\, observing the stations as we
  journey with Jesus to the cross.
GEO:-1.776393;52.494465
LOCATION:All Saints Church\, Shard End
URL:https://www.achurchnearyou.com/church/7259/service-and-events/events/9
 04796/
END:VEVENT
END:VCALENDAR
