BEGIN:VCALENDAR
VERSION:2.0
PRODID:-//achurchnearyou.com//eventfeed//EN
CALSCALE:GREGORIAN
METHOD:PUBLISH
X-WR-TIMEZONE:UTC
BEGIN:VEVENT
SUMMARY:Monthly Sunday afternoon Said Communion Service
DTSTART;TZID=Europe/London:20260405T150000
DTEND;TZID=Europe/London:20260405T160000
DTSTAMP:20260423T120320Z
UID:13168672026-04-05 15:00:00+01:00achurchnearyou
CATEGORIES:
DESCRIPTION:Said Communion Service held monthly on 1st Sunday in month in 
 the afteroon at 3pm
GEO:-1.74057;52.517479
LOCATION:SS Peter & Paul
URL:https://www.achurchnearyou.com/church/7263/service-and-events/events/1
 316867/
END:VEVENT
BEGIN:VEVENT
SUMMARY:Monthly Sunday afternoon Said Communion Service
DTSTART;TZID=Europe/London:20260503T150000
DTEND;TZID=Europe/London:20260503T160000
DTSTAMP:20260423T120320Z
UID:13168672026-05-03 15:00:00+01:00achurchnearyou
CATEGORIES:
DESCRIPTION:Said Communion Service held monthly on 1st Sunday in month in 
 the afteroon at 3pm
GEO:-1.74057;52.517479
LOCATION:SS Peter & Paul
URL:https://www.achurchnearyou.com/church/7263/service-and-events/events/1
 316867/
END:VEVENT
BEGIN:VEVENT
SUMMARY:Monthly Sunday afternoon Said Communion Service
DTSTART;TZID=Europe/London:20260607T150000
DTEND;TZID=Europe/London:20260607T160000
DTSTAMP:20260423T120320Z
UID:13168672026-06-07 15:00:00+01:00achurchnearyou
CATEGORIES:
DESCRIPTION:Said Communion Service held monthly on 1st Sunday in month in 
 the afteroon at 3pm
GEO:-1.74057;52.517479
LOCATION:SS Peter & Paul
URL:https://www.achurchnearyou.com/church/7263/service-and-events/events/1
 316867/
END:VEVENT
BEGIN:VEVENT
SUMMARY:Monthly Sunday afternoon Said Communion Service
DTSTART;TZID=Europe/London:20260705T150000
DTEND;TZID=Europe/London:20260705T160000
DTSTAMP:20260423T120320Z
UID:13168672026-07-05 15:00:00+01:00achurchnearyou
CATEGORIES:
DESCRIPTION:Said Communion Service held monthly on 1st Sunday in month in 
 the afteroon at 3pm
GEO:-1.74057;52.517479
LOCATION:SS Peter & Paul
URL:https://www.achurchnearyou.com/church/7263/service-and-events/events/1
 316867/
END:VEVENT
BEGIN:VEVENT
SUMMARY:Monthly Sunday afternoon Said Communion Service
DTSTART;TZID=Europe/London:20260802T150000
DTEND;TZID=Europe/London:20260802T160000
DTSTAMP:20260423T120320Z
UID:13168672026-08-02 15:00:00+01:00achurchnearyou
CATEGORIES:
DESCRIPTION:Said Communion Service held monthly on 1st Sunday in month in 
 the afteroon at 3pm
GEO:-1.74057;52.517479
LOCATION:SS Peter & Paul
URL:https://www.achurchnearyou.com/church/7263/service-and-events/events/1
 316867/
END:VEVENT
BEGIN:VEVENT
SUMMARY:Monthly Sunday afternoon Said Communion Service
DTSTART;TZID=Europe/London:20260906T150000
DTEND;TZID=Europe/London:20260906T160000
DTSTAMP:20260423T120320Z
UID:13168672026-09-06 15:00:00+01:00achurchnearyou
CATEGORIES:
DESCRIPTION:Said Communion Service held monthly on 1st Sunday in month in 
 the afteroon at 3pm
GEO:-1.74057;52.517479
LOCATION:SS Peter & Paul
URL:https://www.achurchnearyou.com/church/7263/service-and-events/events/1
 316867/
END:VEVENT
BEGIN:VEVENT
SUMMARY:Monthly Sunday afternoon Said Communion Service
DTSTART;TZID=Europe/London:20261004T150000
DTEND;TZID=Europe/London:20261004T160000
DTSTAMP:20260423T120320Z
UID:13168672026-10-04 15:00:00+01:00achurchnearyou
CATEGORIES:
DESCRIPTION:Said Communion Service held monthly on 1st Sunday in month in 
 the afteroon at 3pm
GEO:-1.74057;52.517479
LOCATION:SS Peter & Paul
URL:https://www.achurchnearyou.com/church/7263/service-and-events/events/1
 316867/
END:VEVENT
BEGIN:VEVENT
SUMMARY:Monthly Sunday afternoon Said Communion Service
DTSTART;TZID=Europe/London:20261101T150000
DTEND;TZID=Europe/London:20261101T160000
DTSTAMP:20260423T120320Z
UID:13168672026-11-01 15:00:00+00:00achurchnearyou
CATEGORIES:
DESCRIPTION:Said Communion Service held monthly on 1st Sunday in month in 
 the afteroon at 3pm
GEO:-1.74057;52.517479
LOCATION:SS Peter & Paul
URL:https://www.achurchnearyou.com/church/7263/service-and-events/events/1
 316867/
END:VEVENT
BEGIN:VEVENT
SUMMARY:Monthly Sunday afternoon Said Communion Service
DTSTART;TZID=Europe/London:20261206T150000
DTEND;TZID=Europe/London:20261206T160000
DTSTAMP:20260423T120320Z
UID:13168672026-12-06 15:00:00+00:00achurchnearyou
CATEGORIES:
DESCRIPTION:Said Communion Service held monthly on 1st Sunday in month in 
 the afteroon at 3pm
GEO:-1.74057;52.517479
LOCATION:SS Peter & Paul
URL:https://www.achurchnearyou.com/church/7263/service-and-events/events/1
 316867/
END:VEVENT
BEGIN:VEVENT
SUMMARY:Monthly Sunday afternoon Said Communion Service
DTSTART;TZID=Europe/London:20270103T150000
DTEND;TZID=Europe/London:20270103T160000
DTSTAMP:20260423T120320Z
UID:13168672027-01-03 15:00:00+00:00achurchnearyou
CATEGORIES:
DESCRIPTION:Said Communion Service held monthly on 1st Sunday in month in 
 the afteroon at 3pm
GEO:-1.74057;52.517479
LOCATION:SS Peter & Paul
URL:https://www.achurchnearyou.com/church/7263/service-and-events/events/1
 316867/
END:VEVENT
BEGIN:VEVENT
SUMMARY:Monthly Sunday afternoon Said Communion Service
DTSTART;TZID=Europe/London:20270207T150000
DTEND;TZID=Europe/London:20270207T160000
DTSTAMP:20260423T120320Z
UID:13168672027-02-07 15:00:00+00:00achurchnearyou
CATEGORIES:
DESCRIPTION:Said Communion Service held monthly on 1st Sunday in month in 
 the afteroon at 3pm
GEO:-1.74057;52.517479
LOCATION:SS Peter & Paul
URL:https://www.achurchnearyou.com/church/7263/service-and-events/events/1
 316867/
END:VEVENT
BEGIN:VEVENT
SUMMARY:Monthly Sunday afternoon Said Communion Service
DTSTART;TZID=Europe/London:20270307T150000
DTEND;TZID=Europe/London:20270307T160000
DTSTAMP:20260423T120320Z
UID:13168672027-03-07 15:00:00+00:00achurchnearyou
CATEGORIES:
DESCRIPTION:Said Communion Service held monthly on 1st Sunday in month in 
 the afteroon at 3pm
GEO:-1.74057;52.517479
LOCATION:SS Peter & Paul
URL:https://www.achurchnearyou.com/church/7263/service-and-events/events/1
 316867/
END:VEVENT
BEGIN:VEVENT
SUMMARY:Monthly Sunday afternoon Said Communion Service
DTSTART;TZID=Europe/London:20270404T150000
DTEND;TZID=Europe/London:20270404T160000
DTSTAMP:20260423T120320Z
UID:13168672027-04-04 15:00:00+01:00achurchnearyou
CATEGORIES:
DESCRIPTION:Said Communion Service held monthly on 1st Sunday in month in 
 the afteroon at 3pm
GEO:-1.74057;52.517479
LOCATION:SS Peter & Paul
URL:https://www.achurchnearyou.com/church/7263/service-and-events/events/1
 316867/
END:VEVENT
END:VCALENDAR
