BEGIN:VCALENDAR
VERSION:2.0
PRODID:-//achurchnearyou.com//eventfeed//EN
CALSCALE:GREGORIAN
METHOD:PUBLISH
X-WR-TIMEZONE:UTC
BEGIN:VEVENT
SUMMARY:Messy Church
DTSTART:20260314T160000Z
DTEND:20260314T180000Z
DTSTAMP:20260421T201505Z
UID:12847472026-03-14 16:00:00+00:00achurchnearyou
CATEGORIES:
DESCRIPTION:Join us for fun\, activities and food as we look forward to Ea
 ster.
GEO:-1.653707;52.637911
LOCATION:Amington Parish Church
URL:https://www.achurchnearyou.com/church/7264/service-and-events/events/1
 284747/
END:VEVENT
END:VCALENDAR
