BEGIN:VCALENDAR
VERSION:2.0
PRODID:-//achurchnearyou.com//eventfeed//EN
CALSCALE:GREGORIAN
METHOD:PUBLISH
X-WR-TIMEZONE:UTC
BEGIN:VEVENT
SUMMARY:Holy Communion - Christmas Eve
DTSTART:20251224T180000Z
DTEND:20251224T190000Z
DTSTAMP:20260422T032712Z
UID:12558462025-12-24 18:00:00+00:00achurchnearyou
CATEGORIES:
DESCRIPTION:This is an early-evening service\, to accommodate families who
  are unable to attend a later service. Those not wishing to receive Commun
 ion are welcome to come up for a blessing. Later services in our group of 
 churches:\n\nThere will be a Crib Service at 4 pm at St Leonard's Church\,
  Dordon (Church Road\, Dordon\, Warwickshire B78 1SL)\, and a\nMidnight Ho
 ly Communion at 11 pm at All Saints' Church\, Grendon (Atherstone Road\, G
 rendon\, Warwickshire CV9 3DP)
GEO:-1.602191;52.584098
LOCATION:St Nicholas
URL:https://www.achurchnearyou.com/church/7266/service-and-events/events/1
 255846/
END:VEVENT
END:VCALENDAR
