BEGIN:VCALENDAR
VERSION:2.0
PRODID:-//achurchnearyou.com//eventfeed//EN
CALSCALE:GREGORIAN
METHOD:PUBLISH
X-WR-TIMEZONE:UTC
BEGIN:VEVENT
SUMMARY:Holy Communion - Candlemas
DTSTART:20260201T094500Z
DTEND:20260201T104500Z
DTSTAMP:20260421T233623Z
UID:12826772026-02-01 09:45:00+00:00achurchnearyou
CATEGORIES:
DESCRIPTION:This service traditionally commemorates the Presentation of Ch
 rist in the Temple. Those not wishing to receive Communion are welcome to 
 come up for a blessing.
GEO:-1.602191;52.584098
LOCATION:St Nicholas
URL:https://www.achurchnearyou.com/church/7266/service-and-events/events/1
 282677/
END:VEVENT
END:VCALENDAR
