BEGIN:VCALENDAR
VERSION:2.0
PRODID:-//achurchnearyou.com//eventfeed//EN
CALSCALE:GREGORIAN
METHOD:PUBLISH
X-WR-TIMEZONE:UTC
BEGIN:VEVENT
SUMMARY:Morning Worship (4th of Lent\; Mothering Sunday)
DTSTART:20260315T094500Z
DTEND:20260315T104500Z
DTSTAMP:20260421T214141Z
UID:12986512026-03-15 09:45:00+00:00achurchnearyou
CATEGORIES:
DESCRIPTION:This service will be led by one of our Licensed Readers\, and 
 will follow a standard Anglican pattern for services without Holy Communio
 n.
GEO:-1.602191;52.584098
LOCATION:St Nicholas
URL:https://www.achurchnearyou.com/church/7266/service-and-events/events/1
 298651/
END:VEVENT
END:VCALENDAR
