BEGIN:VCALENDAR
VERSION:2.0
PRODID:-//achurchnearyou.com//eventfeed//EN
CALSCALE:GREGORIAN
METHOD:PUBLISH
X-WR-TIMEZONE:UTC
BEGIN:VEVENT
SUMMARY:Service for Healing and Wholeness at Grendon
DTSTART:20260401T180000Z
DTEND:20260401T190000Z
DTSTAMP:20260421T193002Z
UID:13145682026-04-01 18:00:00+00:00achurchnearyou
CATEGORIES:
DESCRIPTION:Prayer for healing will be offered to those attending\, for th
 emselves or for others.
LOCATION:All Saints Church\, Grendon
URL:https://www.achurchnearyou.com/church/7266/service-and-events/events/1
 314568/
END:VEVENT
END:VCALENDAR
