BEGIN:VCALENDAR
VERSION:2.0
PRODID:-//achurchnearyou.com//eventfeed//EN
CALSCALE:GREGORIAN
METHOD:PUBLISH
X-WR-TIMEZONE:UTC
BEGIN:VEVENT
SUMMARY:United Service of Holy Communion - Easter 4 - at Baddesley Ensor
DTSTART:20260426T093000Z
DTEND:20260426T103000Z
DTSTAMP:20260421T160637Z
UID:13148102026-04-26 09:30:00+00:00achurchnearyou
CATEGORIES:
DESCRIPTION:For this service\, the three churches in our group come togeth
 er (churches of St Nicholas Baddesley Ensor\, All Saints Grendon and St Le
 onard Dordon). Those not wishing to receive Communion are welcome to come 
 up for a blessing.
GEO:-1.602191;52.584098
LOCATION:St Nicholas
URL:https://www.achurchnearyou.com/church/7266/service-and-events/events/1
 314810/
END:VEVENT
END:VCALENDAR
