BEGIN:VCALENDAR
VERSION:2.0
PRODID:-//achurchnearyou.com//eventfeed//EN
CALSCALE:GREGORIAN
METHOD:PUBLISH
X-WR-TIMEZONE:UTC
BEGIN:VEVENT
SUMMARY:Crib Service followed by Messy Church.  Sunday 14th December\,11:1
 5am
DTSTART:20251214T111500Z
DTEND:20251214T131500Z
DTSTAMP:20260423T224008Z
UID:12663112025-12-14 11:15:00+00:00achurchnearyou
CATEGORIES:
DESCRIPTION:All are welcome to our Crib Service\, where we follow the Nati
 vity Story using a Nativity scene. \n\nFollowing this service around 12pm\
 , we then have Messy Church with crafts and story telling.\n\nAll are welc
 ome to both or just one.
GEO:-1.577342;52.60531
LOCATION:All Saints Church
URL:https://www.achurchnearyou.com/church/7272/service-and-events/events/1
 266311/
END:VEVENT
END:VCALENDAR
