BEGIN:VCALENDAR
VERSION:2.0
PRODID:-//achurchnearyou.com//eventfeed//EN
CALSCALE:GREGORIAN
METHOD:PUBLISH
X-WR-TIMEZONE:UTC
BEGIN:VEVENT
SUMMARY:Coffee Morning
DTSTART;TZID=Europe/London:20260516T103000
DTEND;TZID=Europe/London:20260516T123000
DTSTAMP:20260423T073836Z
UID:9326372026-05-16 10:30:00+01:00achurchnearyou
CATEGORIES:
DESCRIPTION:Join us for coffee\, tea\, cake as we raise funds towards Aust
 rey Church Building Fund
LOCATION:St Nicholas\, Austrey
URL:https://www.achurchnearyou.com/church/7281/service-and-events/events/9
 32637/
END:VEVENT
BEGIN:VEVENT
SUMMARY:Coffee Morning
DTSTART;TZID=Europe/London:20260620T103000
DTEND;TZID=Europe/London:20260620T123000
DTSTAMP:20260423T073836Z
UID:9326372026-06-20 10:30:00+01:00achurchnearyou
CATEGORIES:
DESCRIPTION:Join us for coffee\, tea\, cake as we raise funds towards Aust
 rey Church Building Fund
LOCATION:St Nicholas\, Austrey
URL:https://www.achurchnearyou.com/church/7281/service-and-events/events/9
 32637/
END:VEVENT
BEGIN:VEVENT
SUMMARY:Coffee Morning
DTSTART;TZID=Europe/London:20260718T103000
DTEND;TZID=Europe/London:20260718T123000
DTSTAMP:20260423T073836Z
UID:9326372026-07-18 10:30:00+01:00achurchnearyou
CATEGORIES:
DESCRIPTION:Join us for coffee\, tea\, cake as we raise funds towards Aust
 rey Church Building Fund
LOCATION:St Nicholas\, Austrey
URL:https://www.achurchnearyou.com/church/7281/service-and-events/events/9
 32637/
END:VEVENT
BEGIN:VEVENT
SUMMARY:Coffee Morning
DTSTART;TZID=Europe/London:20260815T103000
DTEND;TZID=Europe/London:20260815T123000
DTSTAMP:20260423T073836Z
UID:9326372026-08-15 10:30:00+01:00achurchnearyou
CATEGORIES:
DESCRIPTION:Join us for coffee\, tea\, cake as we raise funds towards Aust
 rey Church Building Fund
LOCATION:St Nicholas\, Austrey
URL:https://www.achurchnearyou.com/church/7281/service-and-events/events/9
 32637/
END:VEVENT
BEGIN:VEVENT
SUMMARY:Coffee Morning
DTSTART;TZID=Europe/London:20260919T103000
DTEND;TZID=Europe/London:20260919T123000
DTSTAMP:20260423T073836Z
UID:9326372026-09-19 10:30:00+01:00achurchnearyou
CATEGORIES:
DESCRIPTION:Join us for coffee\, tea\, cake as we raise funds towards Aust
 rey Church Building Fund
LOCATION:St Nicholas\, Austrey
URL:https://www.achurchnearyou.com/church/7281/service-and-events/events/9
 32637/
END:VEVENT
BEGIN:VEVENT
SUMMARY:Coffee Morning
DTSTART;TZID=Europe/London:20261017T103000
DTEND;TZID=Europe/London:20261017T123000
DTSTAMP:20260423T073836Z
UID:9326372026-10-17 10:30:00+01:00achurchnearyou
CATEGORIES:
DESCRIPTION:Join us for coffee\, tea\, cake as we raise funds towards Aust
 rey Church Building Fund
LOCATION:St Nicholas\, Austrey
URL:https://www.achurchnearyou.com/church/7281/service-and-events/events/9
 32637/
END:VEVENT
BEGIN:VEVENT
SUMMARY:Coffee Morning
DTSTART;TZID=Europe/London:20261121T103000
DTEND;TZID=Europe/London:20261121T123000
DTSTAMP:20260423T073836Z
UID:9326372026-11-21 10:30:00+00:00achurchnearyou
CATEGORIES:
DESCRIPTION:Join us for coffee\, tea\, cake as we raise funds towards Aust
 rey Church Building Fund
LOCATION:St Nicholas\, Austrey
URL:https://www.achurchnearyou.com/church/7281/service-and-events/events/9
 32637/
END:VEVENT
BEGIN:VEVENT
SUMMARY:Coffee Morning
DTSTART;TZID=Europe/London:20261219T103000
DTEND;TZID=Europe/London:20261219T123000
DTSTAMP:20260423T073836Z
UID:9326372026-12-19 10:30:00+00:00achurchnearyou
CATEGORIES:
DESCRIPTION:Join us for coffee\, tea\, cake as we raise funds towards Aust
 rey Church Building Fund
LOCATION:St Nicholas\, Austrey
URL:https://www.achurchnearyou.com/church/7281/service-and-events/events/9
 32637/
END:VEVENT
BEGIN:VEVENT
SUMMARY:Coffee Morning
DTSTART;TZID=Europe/London:20270116T103000
DTEND;TZID=Europe/London:20270116T123000
DTSTAMP:20260423T073836Z
UID:9326372027-01-16 10:30:00+00:00achurchnearyou
CATEGORIES:
DESCRIPTION:Join us for coffee\, tea\, cake as we raise funds towards Aust
 rey Church Building Fund
LOCATION:St Nicholas\, Austrey
URL:https://www.achurchnearyou.com/church/7281/service-and-events/events/9
 32637/
END:VEVENT
BEGIN:VEVENT
SUMMARY:Coffee Morning
DTSTART;TZID=Europe/London:20270220T103000
DTEND;TZID=Europe/London:20270220T123000
DTSTAMP:20260423T073836Z
UID:9326372027-02-20 10:30:00+00:00achurchnearyou
CATEGORIES:
DESCRIPTION:Join us for coffee\, tea\, cake as we raise funds towards Aust
 rey Church Building Fund
LOCATION:St Nicholas\, Austrey
URL:https://www.achurchnearyou.com/church/7281/service-and-events/events/9
 32637/
END:VEVENT
BEGIN:VEVENT
SUMMARY:Coffee Morning
DTSTART;TZID=Europe/London:20270320T103000
DTEND;TZID=Europe/London:20270320T123000
DTSTAMP:20260423T073836Z
UID:9326372027-03-20 10:30:00+00:00achurchnearyou
CATEGORIES:
DESCRIPTION:Join us for coffee\, tea\, cake as we raise funds towards Aust
 rey Church Building Fund
LOCATION:St Nicholas\, Austrey
URL:https://www.achurchnearyou.com/church/7281/service-and-events/events/9
 32637/
END:VEVENT
BEGIN:VEVENT
SUMMARY:Coffee Morning
DTSTART;TZID=Europe/London:20270417T103000
DTEND;TZID=Europe/London:20270417T123000
DTSTAMP:20260423T073836Z
UID:9326372027-04-17 10:30:00+01:00achurchnearyou
CATEGORIES:
DESCRIPTION:Join us for coffee\, tea\, cake as we raise funds towards Aust
 rey Church Building Fund
LOCATION:St Nicholas\, Austrey
URL:https://www.achurchnearyou.com/church/7281/service-and-events/events/9
 32637/
END:VEVENT
END:VCALENDAR
