BEGIN:VCALENDAR
VERSION:2.0
PRODID:-//achurchnearyou.com//eventfeed//EN
CALSCALE:GREGORIAN
METHOD:PUBLISH
X-WR-TIMEZONE:UTC
BEGIN:VEVENT
SUMMARY:Ash Wednesday
DTSTART:20250305T100000Z
DTEND:20250305T104500Z
DTSTAMP:20260425T170959Z
UID:8086072025-03-05 10:00:00+00:00achurchnearyou
CATEGORIES:
DESCRIPTION:An Ash Wednesday service of Holy Communion (BCP) with the ten 
 commandments and imposition of ashes.
GEO:-1.703138;52.339482
LOCATION:St Michael's Baddesley Clinton
URL:https://www.achurchnearyou.com/church/7282/service-and-events/events/8
 08607/
END:VEVENT
END:VCALENDAR
