BEGIN:VCALENDAR
VERSION:2.0
PRODID:-//achurchnearyou.com//eventfeed//EN
CALSCALE:GREGORIAN
METHOD:PUBLISH
X-WR-TIMEZONE:UTC
BEGIN:VEVENT
SUMMARY:Maundy Thursday Meal and Holy Communion
DTSTART:20260402T170000Z
DTEND:20260402T190000Z
DTSTAMP:20260421T124116Z
UID:13147262026-04-02 17:00:00+00:00achurchnearyou
CATEGORIES:
DESCRIPTION:On Maundy Thursday\, we gather to eat and then share Holy Comm
 union together
GEO:-1.762739;52.442593
LOCATION:Elmdon Church
URL:https://www.achurchnearyou.com/church/7288/service-and-events/events/1
 314726/
END:VEVENT
END:VCALENDAR
