BEGIN:VCALENDAR
VERSION:2.0
PRODID:-//achurchnearyou.com//eventfeed//EN
CALSCALE:GREGORIAN
METHOD:PUBLISH
X-WR-TIMEZONE:UTC
BEGIN:VEVENT
SUMMARY:Interactive Morning Praise
DTSTART;TZID=Europe/London:20260510T110000
DTEND;TZID=Europe/London:20260510T120000
DTSTAMP:20260421T110645Z
UID:7659272026-05-10 11:00:00+01:00achurchnearyou
CATEGORIES:
DESCRIPTION:A more informal Sunday morning service\, with all ages worship
 ping together and something for everyone.\n\nOur time together begins with
  refreshments at 10.30am\, followed by our time of worship together at 11a
 m.\n\nA video of the sermon is available afterwards on our website.
GEO:-1.762739;52.442593
LOCATION:Elmdon Church
URL:https://www.elmdonchurch.org/resources/recent-sermons/
END:VEVENT
BEGIN:VEVENT
SUMMARY:Interactive Morning Praise
DTSTART;TZID=Europe/London:20260614T110000
DTEND;TZID=Europe/London:20260614T120000
DTSTAMP:20260421T110645Z
UID:7659272026-06-14 11:00:00+01:00achurchnearyou
CATEGORIES:
DESCRIPTION:A more informal Sunday morning service\, with all ages worship
 ping together and something for everyone.\n\nOur time together begins with
  refreshments at 10.30am\, followed by our time of worship together at 11a
 m.\n\nA video of the sermon is available afterwards on our website.
GEO:-1.762739;52.442593
LOCATION:Elmdon Church
URL:https://www.elmdonchurch.org/resources/recent-sermons/
END:VEVENT
BEGIN:VEVENT
SUMMARY:Interactive Morning Praise
DTSTART;TZID=Europe/London:20260712T110000
DTEND;TZID=Europe/London:20260712T120000
DTSTAMP:20260421T110645Z
UID:7659272026-07-12 11:00:00+01:00achurchnearyou
CATEGORIES:
DESCRIPTION:A more informal Sunday morning service\, with all ages worship
 ping together and something for everyone.\n\nOur time together begins with
  refreshments at 10.30am\, followed by our time of worship together at 11a
 m.\n\nA video of the sermon is available afterwards on our website.
GEO:-1.762739;52.442593
LOCATION:Elmdon Church
URL:https://www.elmdonchurch.org/resources/recent-sermons/
END:VEVENT
BEGIN:VEVENT
SUMMARY:Interactive Morning Praise
DTSTART;TZID=Europe/London:20260809T110000
DTEND;TZID=Europe/London:20260809T120000
DTSTAMP:20260421T110645Z
UID:7659272026-08-09 11:00:00+01:00achurchnearyou
CATEGORIES:
DESCRIPTION:A more informal Sunday morning service\, with all ages worship
 ping together and something for everyone.\n\nOur time together begins with
  refreshments at 10.30am\, followed by our time of worship together at 11a
 m.\n\nA video of the sermon is available afterwards on our website.
GEO:-1.762739;52.442593
LOCATION:Elmdon Church
URL:https://www.elmdonchurch.org/resources/recent-sermons/
END:VEVENT
BEGIN:VEVENT
SUMMARY:Interactive Morning Praise
DTSTART;TZID=Europe/London:20260913T110000
DTEND;TZID=Europe/London:20260913T120000
DTSTAMP:20260421T110645Z
UID:7659272026-09-13 11:00:00+01:00achurchnearyou
CATEGORIES:
DESCRIPTION:A more informal Sunday morning service\, with all ages worship
 ping together and something for everyone.\n\nOur time together begins with
  refreshments at 10.30am\, followed by our time of worship together at 11a
 m.\n\nA video of the sermon is available afterwards on our website.
GEO:-1.762739;52.442593
LOCATION:Elmdon Church
URL:https://www.elmdonchurch.org/resources/recent-sermons/
END:VEVENT
BEGIN:VEVENT
SUMMARY:Interactive Morning Praise
DTSTART;TZID=Europe/London:20261011T110000
DTEND;TZID=Europe/London:20261011T120000
DTSTAMP:20260421T110645Z
UID:7659272026-10-11 11:00:00+01:00achurchnearyou
CATEGORIES:
DESCRIPTION:A more informal Sunday morning service\, with all ages worship
 ping together and something for everyone.\n\nOur time together begins with
  refreshments at 10.30am\, followed by our time of worship together at 11a
 m.\n\nA video of the sermon is available afterwards on our website.
GEO:-1.762739;52.442593
LOCATION:Elmdon Church
URL:https://www.elmdonchurch.org/resources/recent-sermons/
END:VEVENT
BEGIN:VEVENT
SUMMARY:Interactive Morning Praise
DTSTART;TZID=Europe/London:20261108T110000
DTEND;TZID=Europe/London:20261108T120000
DTSTAMP:20260421T110645Z
UID:7659272026-11-08 11:00:00+00:00achurchnearyou
CATEGORIES:
DESCRIPTION:A more informal Sunday morning service\, with all ages worship
 ping together and something for everyone.\n\nOur time together begins with
  refreshments at 10.30am\, followed by our time of worship together at 11a
 m.\n\nA video of the sermon is available afterwards on our website.
GEO:-1.762739;52.442593
LOCATION:Elmdon Church
URL:https://www.elmdonchurch.org/resources/recent-sermons/
END:VEVENT
BEGIN:VEVENT
SUMMARY:Interactive Morning Praise
DTSTART;TZID=Europe/London:20261213T110000
DTEND;TZID=Europe/London:20261213T120000
DTSTAMP:20260421T110645Z
UID:7659272026-12-13 11:00:00+00:00achurchnearyou
CATEGORIES:
DESCRIPTION:A more informal Sunday morning service\, with all ages worship
 ping together and something for everyone.\n\nOur time together begins with
  refreshments at 10.30am\, followed by our time of worship together at 11a
 m.\n\nA video of the sermon is available afterwards on our website.
GEO:-1.762739;52.442593
LOCATION:Elmdon Church
URL:https://www.elmdonchurch.org/resources/recent-sermons/
END:VEVENT
BEGIN:VEVENT
SUMMARY:Interactive Morning Praise
DTSTART;TZID=Europe/London:20270110T110000
DTEND;TZID=Europe/London:20270110T120000
DTSTAMP:20260421T110645Z
UID:7659272027-01-10 11:00:00+00:00achurchnearyou
CATEGORIES:
DESCRIPTION:A more informal Sunday morning service\, with all ages worship
 ping together and something for everyone.\n\nOur time together begins with
  refreshments at 10.30am\, followed by our time of worship together at 11a
 m.\n\nA video of the sermon is available afterwards on our website.
GEO:-1.762739;52.442593
LOCATION:Elmdon Church
URL:https://www.elmdonchurch.org/resources/recent-sermons/
END:VEVENT
BEGIN:VEVENT
SUMMARY:Interactive Morning Praise
DTSTART;TZID=Europe/London:20270214T110000
DTEND;TZID=Europe/London:20270214T120000
DTSTAMP:20260421T110645Z
UID:7659272027-02-14 11:00:00+00:00achurchnearyou
CATEGORIES:
DESCRIPTION:A more informal Sunday morning service\, with all ages worship
 ping together and something for everyone.\n\nOur time together begins with
  refreshments at 10.30am\, followed by our time of worship together at 11a
 m.\n\nA video of the sermon is available afterwards on our website.
GEO:-1.762739;52.442593
LOCATION:Elmdon Church
URL:https://www.elmdonchurch.org/resources/recent-sermons/
END:VEVENT
BEGIN:VEVENT
SUMMARY:Interactive Morning Praise
DTSTART;TZID=Europe/London:20270314T110000
DTEND;TZID=Europe/London:20270314T120000
DTSTAMP:20260421T110645Z
UID:7659272027-03-14 11:00:00+00:00achurchnearyou
CATEGORIES:
DESCRIPTION:A more informal Sunday morning service\, with all ages worship
 ping together and something for everyone.\n\nOur time together begins with
  refreshments at 10.30am\, followed by our time of worship together at 11a
 m.\n\nA video of the sermon is available afterwards on our website.
GEO:-1.762739;52.442593
LOCATION:Elmdon Church
URL:https://www.elmdonchurch.org/resources/recent-sermons/
END:VEVENT
BEGIN:VEVENT
SUMMARY:Interactive Morning Praise
DTSTART;TZID=Europe/London:20270411T110000
DTEND;TZID=Europe/London:20270411T120000
DTSTAMP:20260421T110645Z
UID:7659272027-04-11 11:00:00+01:00achurchnearyou
CATEGORIES:
DESCRIPTION:A more informal Sunday morning service\, with all ages worship
 ping together and something for everyone.\n\nOur time together begins with
  refreshments at 10.30am\, followed by our time of worship together at 11a
 m.\n\nA video of the sermon is available afterwards on our website.
GEO:-1.762739;52.442593
LOCATION:Elmdon Church
URL:https://www.elmdonchurch.org/resources/recent-sermons/
END:VEVENT
END:VCALENDAR
