BEGIN:VCALENDAR
VERSION:2.0
PRODID:-//achurchnearyou.com//eventfeed//EN
CALSCALE:GREGORIAN
METHOD:PUBLISH
X-WR-TIMEZONE:UTC
BEGIN:VEVENT
SUMMARY:Carols by Candlelight
DTSTART:20251221T190000Z
DTEND:20251221T203000Z
DTSTAMP:20260422T051916Z
UID:12462422025-12-21 19:00:00+00:00achurchnearyou
CATEGORIES:
DESCRIPTION:An evening filled with carols\, Bible readings and a message o
 n the light and hope found at Christmas time. Followed by mulled wine and 
 warm mince pies.
GEO:-0.291343;51.410788
LOCATION:St Peter's Norbiton
URL:https://stpetersnorbiton.churchsuite.com/events/ihygemke
END:VEVENT
END:VCALENDAR
