BEGIN:VCALENDAR
VERSION:2.0
PRODID:-//achurchnearyou.com//eventfeed//EN
CALSCALE:GREGORIAN
METHOD:PUBLISH
X-WR-TIMEZONE:UTC
BEGIN:VEVENT
SUMMARY:Good Friday Moments with Jesus
DTSTART:20260403T140000Z
DTEND:20260403T160000Z
DTSTAMP:20260421T214014Z
UID:13066362026-04-03 14:00:00+00:00achurchnearyou
CATEGORIES:
DESCRIPTION:A drop in space for quiet reflection.
GEO:-0.291343;51.410788
LOCATION:St Peter's Norbiton
URL:https://www.achurchnearyou.com/church/729/service-and-events/events/13
 06636/
END:VEVENT
END:VCALENDAR
