BEGIN:VCALENDAR
VERSION:2.0
PRODID:-//achurchnearyou.com//eventfeed//EN
CALSCALE:GREGORIAN
METHOD:PUBLISH
X-WR-TIMEZONE:UTC
BEGIN:VEVENT
SUMMARY:Ash Wednesday Service
DTSTART:20260218T140000Z
DTEND:20260218T150000Z
DTSTAMP:20260423T162303Z
UID:12895182026-02-18 14:00:00+00:00achurchnearyou
CATEGORIES:
DESCRIPTION:A service of Holy Communion with hymns and imposition of ashes
GEO:-1.752083;52.353111
LOCATION:St Giles\, Packwood
URL:https://www.achurchnearyou.com/church/7298/service-and-events/events/1
 289518/
END:VEVENT
END:VCALENDAR
