BEGIN:VCALENDAR
VERSION:2.0
PRODID:-//achurchnearyou.com//eventfeed//EN
CALSCALE:GREGORIAN
METHOD:PUBLISH
X-WR-TIMEZONE:UTC
BEGIN:VEVENT
SUMMARY:Family Crib Service with Christingles and 'The Grumpy Owl and the 
 Joy of Christmas'
DTSTART:20251224T160000Z
DTEND:20251224T164500Z
DTSTAMP:20260423T145151Z
UID:4854112025-12-24 16:00:00+00:00achurchnearyou
CATEGORIES:
DESCRIPTION:A service for people of all ages where we will hear and take p
 art in the story of the nativity\, and receive Christingles to take home. 
 Everyone is invited to make a woolly sheep and present it in the stable.
GEO:-0.109949;51.412319
LOCATION:St Oswald's\, Norbury
URL:https://www.achurchnearyou.com/church/730/service-and-events/events/48
 5411/
END:VEVENT
END:VCALENDAR
