BEGIN:VCALENDAR
VERSION:2.0
PRODID:-//achurchnearyou.com//eventfeed//EN
CALSCALE:GREGORIAN
METHOD:PUBLISH
X-WR-TIMEZONE:UTC
BEGIN:VEVENT
SUMMARY:All-Age Eucharist for Christmas Day
DTSTART:20251225T100000Z
DTEND:20251225T110000Z
DTSTAMP:20260423T203639Z
UID:4854182025-12-25 10:00:00+00:00achurchnearyou
CATEGORIES:
DESCRIPTION:We gather in church to share the joy of Christmas in a family 
 friendly Eucharist.
GEO:-0.109949;51.412319
LOCATION:St Oswald's\, Norbury
URL:https://www.achurchnearyou.com/church/730/service-and-events/events/48
 5418/
END:VEVENT
END:VCALENDAR
