BEGIN:VCALENDAR
VERSION:2.0
PRODID:-//achurchnearyou.com//eventfeed//EN
CALSCALE:GREGORIAN
METHOD:PUBLISH
X-WR-TIMEZONE:UTC
BEGIN:VEVENT
SUMMARY:Messy Church at St James
DTSTART;TZID=Europe/London:20260516T100000
DTEND;TZID=Europe/London:20260516T113000
DTSTAMP:20260423T215249Z
UID:8253002026-05-16 10:00:00+01:00achurchnearyou
CATEGORIES:
DESCRIPTION:Eat. Make. Celebrate. Church for families of all shapes\, size
 s and compositions.
LOCATION:St James the Great\, Shirley\, Solihull
URL:https://www.shirleyparishb90.co.uk/messy-church
END:VEVENT
BEGIN:VEVENT
SUMMARY:Messy Church at St James
DTSTART;TZID=Europe/London:20260620T100000
DTEND;TZID=Europe/London:20260620T113000
DTSTAMP:20260423T215249Z
UID:8253002026-06-20 10:00:00+01:00achurchnearyou
CATEGORIES:
DESCRIPTION:Eat. Make. Celebrate. Church for families of all shapes\, size
 s and compositions.
LOCATION:St James the Great\, Shirley\, Solihull
URL:https://www.shirleyparishb90.co.uk/messy-church
END:VEVENT
BEGIN:VEVENT
SUMMARY:Messy Church at St James
DTSTART;TZID=Europe/London:20260718T100000
DTEND;TZID=Europe/London:20260718T113000
DTSTAMP:20260423T215249Z
UID:8253002026-07-18 10:00:00+01:00achurchnearyou
CATEGORIES:
DESCRIPTION:Eat. Make. Celebrate. Church for families of all shapes\, size
 s and compositions.
LOCATION:St James the Great\, Shirley\, Solihull
URL:https://www.shirleyparishb90.co.uk/messy-church
END:VEVENT
BEGIN:VEVENT
SUMMARY:Messy Church at St James
DTSTART;TZID=Europe/London:20260815T100000
DTEND;TZID=Europe/London:20260815T113000
DTSTAMP:20260423T215249Z
UID:8253002026-08-15 10:00:00+01:00achurchnearyou
CATEGORIES:
DESCRIPTION:Eat. Make. Celebrate. Church for families of all shapes\, size
 s and compositions.
LOCATION:St James the Great\, Shirley\, Solihull
URL:https://www.shirleyparishb90.co.uk/messy-church
END:VEVENT
BEGIN:VEVENT
SUMMARY:Messy Church at St James
DTSTART;TZID=Europe/London:20260919T100000
DTEND;TZID=Europe/London:20260919T113000
DTSTAMP:20260423T215249Z
UID:8253002026-09-19 10:00:00+01:00achurchnearyou
CATEGORIES:
DESCRIPTION:Eat. Make. Celebrate. Church for families of all shapes\, size
 s and compositions.
LOCATION:St James the Great\, Shirley\, Solihull
URL:https://www.shirleyparishb90.co.uk/messy-church
END:VEVENT
BEGIN:VEVENT
SUMMARY:Messy Church at St James
DTSTART;TZID=Europe/London:20261017T100000
DTEND;TZID=Europe/London:20261017T113000
DTSTAMP:20260423T215249Z
UID:8253002026-10-17 10:00:00+01:00achurchnearyou
CATEGORIES:
DESCRIPTION:Eat. Make. Celebrate. Church for families of all shapes\, size
 s and compositions.
LOCATION:St James the Great\, Shirley\, Solihull
URL:https://www.shirleyparishb90.co.uk/messy-church
END:VEVENT
BEGIN:VEVENT
SUMMARY:Messy Church at St James
DTSTART;TZID=Europe/London:20261121T100000
DTEND;TZID=Europe/London:20261121T113000
DTSTAMP:20260423T215249Z
UID:8253002026-11-21 10:00:00+00:00achurchnearyou
CATEGORIES:
DESCRIPTION:Eat. Make. Celebrate. Church for families of all shapes\, size
 s and compositions.
LOCATION:St James the Great\, Shirley\, Solihull
URL:https://www.shirleyparishb90.co.uk/messy-church
END:VEVENT
BEGIN:VEVENT
SUMMARY:Messy Church at St James
DTSTART;TZID=Europe/London:20261219T100000
DTEND;TZID=Europe/London:20261219T113000
DTSTAMP:20260423T215249Z
UID:8253002026-12-19 10:00:00+00:00achurchnearyou
CATEGORIES:
DESCRIPTION:Eat. Make. Celebrate. Church for families of all shapes\, size
 s and compositions.
LOCATION:St James the Great\, Shirley\, Solihull
URL:https://www.shirleyparishb90.co.uk/messy-church
END:VEVENT
BEGIN:VEVENT
SUMMARY:Messy Church at St James
DTSTART;TZID=Europe/London:20270116T100000
DTEND;TZID=Europe/London:20270116T113000
DTSTAMP:20260423T215249Z
UID:8253002027-01-16 10:00:00+00:00achurchnearyou
CATEGORIES:
DESCRIPTION:Eat. Make. Celebrate. Church for families of all shapes\, size
 s and compositions.
LOCATION:St James the Great\, Shirley\, Solihull
URL:https://www.shirleyparishb90.co.uk/messy-church
END:VEVENT
BEGIN:VEVENT
SUMMARY:Messy Church at St James
DTSTART;TZID=Europe/London:20270220T100000
DTEND;TZID=Europe/London:20270220T113000
DTSTAMP:20260423T215249Z
UID:8253002027-02-20 10:00:00+00:00achurchnearyou
CATEGORIES:
DESCRIPTION:Eat. Make. Celebrate. Church for families of all shapes\, size
 s and compositions.
LOCATION:St James the Great\, Shirley\, Solihull
URL:https://www.shirleyparishb90.co.uk/messy-church
END:VEVENT
BEGIN:VEVENT
SUMMARY:Messy Church at St James
DTSTART;TZID=Europe/London:20270320T100000
DTEND;TZID=Europe/London:20270320T113000
DTSTAMP:20260423T215249Z
UID:8253002027-03-20 10:00:00+00:00achurchnearyou
CATEGORIES:
DESCRIPTION:Eat. Make. Celebrate. Church for families of all shapes\, size
 s and compositions.
LOCATION:St James the Great\, Shirley\, Solihull
URL:https://www.shirleyparishb90.co.uk/messy-church
END:VEVENT
BEGIN:VEVENT
SUMMARY:Messy Church at St James
DTSTART;TZID=Europe/London:20270417T100000
DTEND;TZID=Europe/London:20270417T113000
DTSTAMP:20260423T215249Z
UID:8253002027-04-17 10:00:00+01:00achurchnearyou
CATEGORIES:
DESCRIPTION:Eat. Make. Celebrate. Church for families of all shapes\, size
 s and compositions.
LOCATION:St James the Great\, Shirley\, Solihull
URL:https://www.shirleyparishb90.co.uk/messy-church
END:VEVENT
END:VCALENDAR
