BEGIN:VCALENDAR
VERSION:2.0
PRODID:-//achurchnearyou.com//eventfeed//EN
CALSCALE:GREGORIAN
METHOD:PUBLISH
X-WR-TIMEZONE:UTC
BEGIN:VEVENT
SUMMARY:Parish-wide Holy Communion
DTSTART;TZID=Europe/London:20260503T103000
DTEND;TZID=Europe/London:20260503T113000
DTSTAMP:20260423T233200Z
UID:8836302026-05-03 10:30:00+01:00achurchnearyou
CATEGORIES:
DESCRIPTION:On the 1st\, 3rd and 5th Sunday of each month we meet together
  as a Parish in a joint service of Holy Communion at St James.
LOCATION:St James' Church
URL:http://www.shirleyparishb90.co.uk
END:VEVENT
BEGIN:VEVENT
SUMMARY:Parish-wide Holy Communion
DTSTART;TZID=Europe/London:20260517T103000
DTEND;TZID=Europe/London:20260517T113000
DTSTAMP:20260423T233200Z
UID:8836302026-05-17 10:30:00+01:00achurchnearyou
CATEGORIES:
DESCRIPTION:On the 1st\, 3rd and 5th Sunday of each month we meet together
  as a Parish in a joint service of Holy Communion at St James.
LOCATION:St James' Church
URL:http://www.shirleyparishb90.co.uk
END:VEVENT
BEGIN:VEVENT
SUMMARY:Parish-wide Holy Communion
DTSTART;TZID=Europe/London:20260531T103000
DTEND;TZID=Europe/London:20260531T113000
DTSTAMP:20260423T233200Z
UID:8836302026-05-31 10:30:00+01:00achurchnearyou
CATEGORIES:
DESCRIPTION:On the 1st\, 3rd and 5th Sunday of each month we meet together
  as a Parish in a joint service of Holy Communion at St James.
LOCATION:St James' Church
URL:http://www.shirleyparishb90.co.uk
END:VEVENT
BEGIN:VEVENT
SUMMARY:Parish-wide Holy Communion
DTSTART;TZID=Europe/London:20260607T103000
DTEND;TZID=Europe/London:20260607T113000
DTSTAMP:20260423T233200Z
UID:8836302026-06-07 10:30:00+01:00achurchnearyou
CATEGORIES:
DESCRIPTION:On the 1st\, 3rd and 5th Sunday of each month we meet together
  as a Parish in a joint service of Holy Communion at St James.
LOCATION:St James' Church
URL:http://www.shirleyparishb90.co.uk
END:VEVENT
BEGIN:VEVENT
SUMMARY:Parish-wide Holy Communion
DTSTART;TZID=Europe/London:20260621T103000
DTEND;TZID=Europe/London:20260621T113000
DTSTAMP:20260423T233200Z
UID:8836302026-06-21 10:30:00+01:00achurchnearyou
CATEGORIES:
DESCRIPTION:On the 1st\, 3rd and 5th Sunday of each month we meet together
  as a Parish in a joint service of Holy Communion at St James.
LOCATION:St James' Church
URL:http://www.shirleyparishb90.co.uk
END:VEVENT
BEGIN:VEVENT
SUMMARY:Parish-wide Holy Communion
DTSTART;TZID=Europe/London:20260705T103000
DTEND;TZID=Europe/London:20260705T113000
DTSTAMP:20260423T233200Z
UID:8836302026-07-05 10:30:00+01:00achurchnearyou
CATEGORIES:
DESCRIPTION:On the 1st\, 3rd and 5th Sunday of each month we meet together
  as a Parish in a joint service of Holy Communion at St James.
LOCATION:St James' Church
URL:http://www.shirleyparishb90.co.uk
END:VEVENT
BEGIN:VEVENT
SUMMARY:Parish-wide Holy Communion
DTSTART;TZID=Europe/London:20260719T103000
DTEND;TZID=Europe/London:20260719T113000
DTSTAMP:20260423T233200Z
UID:8836302026-07-19 10:30:00+01:00achurchnearyou
CATEGORIES:
DESCRIPTION:On the 1st\, 3rd and 5th Sunday of each month we meet together
  as a Parish in a joint service of Holy Communion at St James.
LOCATION:St James' Church
URL:http://www.shirleyparishb90.co.uk
END:VEVENT
BEGIN:VEVENT
SUMMARY:Parish-wide Holy Communion
DTSTART;TZID=Europe/London:20260802T103000
DTEND;TZID=Europe/London:20260802T113000
DTSTAMP:20260423T233200Z
UID:8836302026-08-02 10:30:00+01:00achurchnearyou
CATEGORIES:
DESCRIPTION:On the 1st\, 3rd and 5th Sunday of each month we meet together
  as a Parish in a joint service of Holy Communion at St James.
LOCATION:St James' Church
URL:http://www.shirleyparishb90.co.uk
END:VEVENT
BEGIN:VEVENT
SUMMARY:Parish-wide Holy Communion
DTSTART;TZID=Europe/London:20260816T103000
DTEND;TZID=Europe/London:20260816T113000
DTSTAMP:20260423T233200Z
UID:8836302026-08-16 10:30:00+01:00achurchnearyou
CATEGORIES:
DESCRIPTION:On the 1st\, 3rd and 5th Sunday of each month we meet together
  as a Parish in a joint service of Holy Communion at St James.
LOCATION:St James' Church
URL:http://www.shirleyparishb90.co.uk
END:VEVENT
BEGIN:VEVENT
SUMMARY:Parish-wide Holy Communion
DTSTART;TZID=Europe/London:20260830T103000
DTEND;TZID=Europe/London:20260830T113000
DTSTAMP:20260423T233200Z
UID:8836302026-08-30 10:30:00+01:00achurchnearyou
CATEGORIES:
DESCRIPTION:On the 1st\, 3rd and 5th Sunday of each month we meet together
  as a Parish in a joint service of Holy Communion at St James.
LOCATION:St James' Church
URL:http://www.shirleyparishb90.co.uk
END:VEVENT
BEGIN:VEVENT
SUMMARY:Parish-wide Holy Communion
DTSTART;TZID=Europe/London:20260906T103000
DTEND;TZID=Europe/London:20260906T113000
DTSTAMP:20260423T233200Z
UID:8836302026-09-06 10:30:00+01:00achurchnearyou
CATEGORIES:
DESCRIPTION:On the 1st\, 3rd and 5th Sunday of each month we meet together
  as a Parish in a joint service of Holy Communion at St James.
LOCATION:St James' Church
URL:http://www.shirleyparishb90.co.uk
END:VEVENT
BEGIN:VEVENT
SUMMARY:Parish-wide Holy Communion
DTSTART;TZID=Europe/London:20260920T103000
DTEND;TZID=Europe/London:20260920T113000
DTSTAMP:20260423T233200Z
UID:8836302026-09-20 10:30:00+01:00achurchnearyou
CATEGORIES:
DESCRIPTION:On the 1st\, 3rd and 5th Sunday of each month we meet together
  as a Parish in a joint service of Holy Communion at St James.
LOCATION:St James' Church
URL:http://www.shirleyparishb90.co.uk
END:VEVENT
BEGIN:VEVENT
SUMMARY:Parish-wide Holy Communion
DTSTART;TZID=Europe/London:20261004T103000
DTEND;TZID=Europe/London:20261004T113000
DTSTAMP:20260423T233200Z
UID:8836302026-10-04 10:30:00+01:00achurchnearyou
CATEGORIES:
DESCRIPTION:On the 1st\, 3rd and 5th Sunday of each month we meet together
  as a Parish in a joint service of Holy Communion at St James.
LOCATION:St James' Church
URL:http://www.shirleyparishb90.co.uk
END:VEVENT
BEGIN:VEVENT
SUMMARY:Parish-wide Holy Communion
DTSTART;TZID=Europe/London:20261018T103000
DTEND;TZID=Europe/London:20261018T113000
DTSTAMP:20260423T233200Z
UID:8836302026-10-18 10:30:00+01:00achurchnearyou
CATEGORIES:
DESCRIPTION:On the 1st\, 3rd and 5th Sunday of each month we meet together
  as a Parish in a joint service of Holy Communion at St James.
LOCATION:St James' Church
URL:http://www.shirleyparishb90.co.uk
END:VEVENT
BEGIN:VEVENT
SUMMARY:Parish-wide Holy Communion
DTSTART;TZID=Europe/London:20261101T103000
DTEND;TZID=Europe/London:20261101T113000
DTSTAMP:20260423T233200Z
UID:8836302026-11-01 10:30:00+00:00achurchnearyou
CATEGORIES:
DESCRIPTION:On the 1st\, 3rd and 5th Sunday of each month we meet together
  as a Parish in a joint service of Holy Communion at St James.
LOCATION:St James' Church
URL:http://www.shirleyparishb90.co.uk
END:VEVENT
BEGIN:VEVENT
SUMMARY:Parish-wide Holy Communion
DTSTART;TZID=Europe/London:20261115T103000
DTEND;TZID=Europe/London:20261115T113000
DTSTAMP:20260423T233200Z
UID:8836302026-11-15 10:30:00+00:00achurchnearyou
CATEGORIES:
DESCRIPTION:On the 1st\, 3rd and 5th Sunday of each month we meet together
  as a Parish in a joint service of Holy Communion at St James.
LOCATION:St James' Church
URL:http://www.shirleyparishb90.co.uk
END:VEVENT
BEGIN:VEVENT
SUMMARY:Parish-wide Holy Communion
DTSTART;TZID=Europe/London:20261129T103000
DTEND;TZID=Europe/London:20261129T113000
DTSTAMP:20260423T233200Z
UID:8836302026-11-29 10:30:00+00:00achurchnearyou
CATEGORIES:
DESCRIPTION:On the 1st\, 3rd and 5th Sunday of each month we meet together
  as a Parish in a joint service of Holy Communion at St James.
LOCATION:St James' Church
URL:http://www.shirleyparishb90.co.uk
END:VEVENT
BEGIN:VEVENT
SUMMARY:Parish-wide Holy Communion
DTSTART;TZID=Europe/London:20261206T103000
DTEND;TZID=Europe/London:20261206T113000
DTSTAMP:20260423T233200Z
UID:8836302026-12-06 10:30:00+00:00achurchnearyou
CATEGORIES:
DESCRIPTION:On the 1st\, 3rd and 5th Sunday of each month we meet together
  as a Parish in a joint service of Holy Communion at St James.
LOCATION:St James' Church
URL:http://www.shirleyparishb90.co.uk
END:VEVENT
BEGIN:VEVENT
SUMMARY:Parish-wide Holy Communion
DTSTART;TZID=Europe/London:20261220T103000
DTEND;TZID=Europe/London:20261220T113000
DTSTAMP:20260423T233200Z
UID:8836302026-12-20 10:30:00+00:00achurchnearyou
CATEGORIES:
DESCRIPTION:On the 1st\, 3rd and 5th Sunday of each month we meet together
  as a Parish in a joint service of Holy Communion at St James.
LOCATION:St James' Church
URL:http://www.shirleyparishb90.co.uk
END:VEVENT
BEGIN:VEVENT
SUMMARY:Parish-wide Holy Communion
DTSTART;TZID=Europe/London:20270103T103000
DTEND;TZID=Europe/London:20270103T113000
DTSTAMP:20260423T233200Z
UID:8836302027-01-03 10:30:00+00:00achurchnearyou
CATEGORIES:
DESCRIPTION:On the 1st\, 3rd and 5th Sunday of each month we meet together
  as a Parish in a joint service of Holy Communion at St James.
LOCATION:St James' Church
URL:http://www.shirleyparishb90.co.uk
END:VEVENT
BEGIN:VEVENT
SUMMARY:Parish-wide Holy Communion
DTSTART;TZID=Europe/London:20270117T103000
DTEND;TZID=Europe/London:20270117T113000
DTSTAMP:20260423T233200Z
UID:8836302027-01-17 10:30:00+00:00achurchnearyou
CATEGORIES:
DESCRIPTION:On the 1st\, 3rd and 5th Sunday of each month we meet together
  as a Parish in a joint service of Holy Communion at St James.
LOCATION:St James' Church
URL:http://www.shirleyparishb90.co.uk
END:VEVENT
BEGIN:VEVENT
SUMMARY:Parish-wide Holy Communion
DTSTART;TZID=Europe/London:20270131T103000
DTEND;TZID=Europe/London:20270131T113000
DTSTAMP:20260423T233200Z
UID:8836302027-01-31 10:30:00+00:00achurchnearyou
CATEGORIES:
DESCRIPTION:On the 1st\, 3rd and 5th Sunday of each month we meet together
  as a Parish in a joint service of Holy Communion at St James.
LOCATION:St James' Church
URL:http://www.shirleyparishb90.co.uk
END:VEVENT
BEGIN:VEVENT
SUMMARY:Parish-wide Holy Communion
DTSTART;TZID=Europe/London:20270207T103000
DTEND;TZID=Europe/London:20270207T113000
DTSTAMP:20260423T233200Z
UID:8836302027-02-07 10:30:00+00:00achurchnearyou
CATEGORIES:
DESCRIPTION:On the 1st\, 3rd and 5th Sunday of each month we meet together
  as a Parish in a joint service of Holy Communion at St James.
LOCATION:St James' Church
URL:http://www.shirleyparishb90.co.uk
END:VEVENT
BEGIN:VEVENT
SUMMARY:Parish-wide Holy Communion
DTSTART;TZID=Europe/London:20270221T103000
DTEND;TZID=Europe/London:20270221T113000
DTSTAMP:20260423T233200Z
UID:8836302027-02-21 10:30:00+00:00achurchnearyou
CATEGORIES:
DESCRIPTION:On the 1st\, 3rd and 5th Sunday of each month we meet together
  as a Parish in a joint service of Holy Communion at St James.
LOCATION:St James' Church
URL:http://www.shirleyparishb90.co.uk
END:VEVENT
BEGIN:VEVENT
SUMMARY:Parish-wide Holy Communion
DTSTART;TZID=Europe/London:20270307T103000
DTEND;TZID=Europe/London:20270307T113000
DTSTAMP:20260423T233200Z
UID:8836302027-03-07 10:30:00+00:00achurchnearyou
CATEGORIES:
DESCRIPTION:On the 1st\, 3rd and 5th Sunday of each month we meet together
  as a Parish in a joint service of Holy Communion at St James.
LOCATION:St James' Church
URL:http://www.shirleyparishb90.co.uk
END:VEVENT
BEGIN:VEVENT
SUMMARY:Parish-wide Holy Communion
DTSTART;TZID=Europe/London:20270321T103000
DTEND;TZID=Europe/London:20270321T113000
DTSTAMP:20260423T233200Z
UID:8836302027-03-21 10:30:00+00:00achurchnearyou
CATEGORIES:
DESCRIPTION:On the 1st\, 3rd and 5th Sunday of each month we meet together
  as a Parish in a joint service of Holy Communion at St James.
LOCATION:St James' Church
URL:http://www.shirleyparishb90.co.uk
END:VEVENT
BEGIN:VEVENT
SUMMARY:Parish-wide Holy Communion
DTSTART;TZID=Europe/London:20270404T103000
DTEND;TZID=Europe/London:20270404T113000
DTSTAMP:20260423T233200Z
UID:8836302027-04-04 10:30:00+01:00achurchnearyou
CATEGORIES:
DESCRIPTION:On the 1st\, 3rd and 5th Sunday of each month we meet together
  as a Parish in a joint service of Holy Communion at St James.
LOCATION:St James' Church
URL:http://www.shirleyparishb90.co.uk
END:VEVENT
BEGIN:VEVENT
SUMMARY:Parish-wide Holy Communion
DTSTART;TZID=Europe/London:20270418T103000
DTEND;TZID=Europe/London:20270418T113000
DTSTAMP:20260423T233200Z
UID:8836302027-04-18 10:30:00+01:00achurchnearyou
CATEGORIES:
DESCRIPTION:On the 1st\, 3rd and 5th Sunday of each month we meet together
  as a Parish in a joint service of Holy Communion at St James.
LOCATION:St James' Church
URL:http://www.shirleyparishb90.co.uk
END:VEVENT
END:VCALENDAR
