BEGIN:VCALENDAR
VERSION:2.0
PRODID:-//achurchnearyou.com//eventfeed//EN
CALSCALE:GREGORIAN
METHOD:PUBLISH
X-WR-TIMEZONE:UTC
BEGIN:VEVENT
SUMMARY:All Age Worship
DTSTART;TZID=Europe/London:20260405T093000
DTEND;TZID=Europe/London:20260405T101500
DTSTAMP:20260423T073212Z
UID:7810941775377800.0achurchnearyou
CATEGORIES:
DESCRIPTION:Our family friendly\, interactive service for All Ages
GEO:-1.740783;52.54871
LOCATION:St Chad\, Wishaw
URL:https://www.achurchnearyou.com/church/7320/service-and-events/events/7
 81094/
END:VEVENT
BEGIN:VEVENT
SUMMARY:Morning Worship
DTSTART;TZID=Europe/London:20260412T093000
DTEND;TZID=Europe/London:20260412T103000
DTSTAMP:20260423T073212Z
UID:7810901775982600.0achurchnearyou
CATEGORIES:
DESCRIPTION:Our regular Sunday Eucharistic Worship
GEO:-1.740783;52.54871
LOCATION:St Chad\, Wishaw
URL:https://www.achurchnearyou.com/church/7320/service-and-events/events/7
 81090/
END:VEVENT
BEGIN:VEVENT
SUMMARY:Family Communion
DTSTART;TZID=Europe/London:20260419T093000
DTEND;TZID=Europe/London:20260419T103000
DTSTAMP:20260423T073212Z
UID:9092941776587400.0achurchnearyou
CATEGORIES:
DESCRIPTION:Our monthly Parish Family Communion service designed to be fam
 ily friendly.
GEO:-1.740783;52.54871
LOCATION:St Chad\, Wishaw
URL:https://www.achurchnearyou.com/church/7320/service-and-events/events/9
 09294/
END:VEVENT
BEGIN:VEVENT
SUMMARY:Morning Worship
DTSTART;TZID=Europe/London:20260426T093000
DTEND;TZID=Europe/London:20260426T103000
DTSTAMP:20260423T073212Z
UID:7810901777192200.0achurchnearyou
CATEGORIES:
DESCRIPTION:Our regular Sunday Eucharistic Worship
GEO:-1.740783;52.54871
LOCATION:St Chad\, Wishaw
URL:https://www.achurchnearyou.com/church/7320/service-and-events/events/7
 81090/
END:VEVENT
BEGIN:VEVENT
SUMMARY:All Age Worship
DTSTART;TZID=Europe/London:20260503T093000
DTEND;TZID=Europe/London:20260503T101500
DTSTAMP:20260423T073212Z
UID:7810941777797000.0achurchnearyou
CATEGORIES:
DESCRIPTION:Our family friendly\, interactive service for All Ages
GEO:-1.740783;52.54871
LOCATION:St Chad\, Wishaw
URL:https://www.achurchnearyou.com/church/7320/service-and-events/events/7
 81094/
END:VEVENT
BEGIN:VEVENT
SUMMARY:Morning Worship
DTSTART;TZID=Europe/London:20260510T093000
DTEND;TZID=Europe/London:20260510T103000
DTSTAMP:20260423T073212Z
UID:7810901778401800.0achurchnearyou
CATEGORIES:
DESCRIPTION:Our regular Sunday Eucharistic Worship
GEO:-1.740783;52.54871
LOCATION:St Chad\, Wishaw
URL:https://www.achurchnearyou.com/church/7320/service-and-events/events/7
 81090/
END:VEVENT
BEGIN:VEVENT
SUMMARY:Family Communion
DTSTART;TZID=Europe/London:20260517T093000
DTEND;TZID=Europe/London:20260517T103000
DTSTAMP:20260423T073212Z
UID:9092941779006600.0achurchnearyou
CATEGORIES:
DESCRIPTION:Our monthly Parish Family Communion service designed to be fam
 ily friendly.
GEO:-1.740783;52.54871
LOCATION:St Chad\, Wishaw
URL:https://www.achurchnearyou.com/church/7320/service-and-events/events/9
 09294/
END:VEVENT
BEGIN:VEVENT
SUMMARY:Morning Worship
DTSTART;TZID=Europe/London:20260524T093000
DTEND;TZID=Europe/London:20260524T103000
DTSTAMP:20260423T073212Z
UID:7810901779611400.0achurchnearyou
CATEGORIES:
DESCRIPTION:Our regular Sunday Eucharistic Worship
GEO:-1.740783;52.54871
LOCATION:St Chad\, Wishaw
URL:https://www.achurchnearyou.com/church/7320/service-and-events/events/7
 81090/
END:VEVENT
BEGIN:VEVENT
SUMMARY:Morning Worship
DTSTART;TZID=Europe/London:20260531T093000
DTEND;TZID=Europe/London:20260531T103000
DTSTAMP:20260423T073212Z
UID:7810901780216200.0achurchnearyou
CATEGORIES:
DESCRIPTION:Our regular Sunday Eucharistic Worship
GEO:-1.740783;52.54871
LOCATION:St Chad\, Wishaw
URL:https://www.achurchnearyou.com/church/7320/service-and-events/events/7
 81090/
END:VEVENT
BEGIN:VEVENT
SUMMARY:All Age Worship
DTSTART;TZID=Europe/London:20260607T093000
DTEND;TZID=Europe/London:20260607T101500
DTSTAMP:20260423T073212Z
UID:7810941780821000.0achurchnearyou
CATEGORIES:
DESCRIPTION:Our family friendly\, interactive service for All Ages
GEO:-1.740783;52.54871
LOCATION:St Chad\, Wishaw
URL:https://www.achurchnearyou.com/church/7320/service-and-events/events/7
 81094/
END:VEVENT
BEGIN:VEVENT
SUMMARY:Morning Worship
DTSTART;TZID=Europe/London:20260614T093000
DTEND;TZID=Europe/London:20260614T103000
DTSTAMP:20260423T073212Z
UID:7810901781425800.0achurchnearyou
CATEGORIES:
DESCRIPTION:Our regular Sunday Eucharistic Worship
GEO:-1.740783;52.54871
LOCATION:St Chad\, Wishaw
URL:https://www.achurchnearyou.com/church/7320/service-and-events/events/7
 81090/
END:VEVENT
BEGIN:VEVENT
SUMMARY:Family Communion
DTSTART;TZID=Europe/London:20260621T093000
DTEND;TZID=Europe/London:20260621T103000
DTSTAMP:20260423T073212Z
UID:9092941782030600.0achurchnearyou
CATEGORIES:
DESCRIPTION:Our monthly Parish Family Communion service designed to be fam
 ily friendly.
GEO:-1.740783;52.54871
LOCATION:St Chad\, Wishaw
URL:https://www.achurchnearyou.com/church/7320/service-and-events/events/9
 09294/
END:VEVENT
BEGIN:VEVENT
SUMMARY:Morning Worship
DTSTART;TZID=Europe/London:20260628T093000
DTEND;TZID=Europe/London:20260628T103000
DTSTAMP:20260423T073212Z
UID:7810901782635400.0achurchnearyou
CATEGORIES:
DESCRIPTION:Our regular Sunday Eucharistic Worship
GEO:-1.740783;52.54871
LOCATION:St Chad\, Wishaw
URL:https://www.achurchnearyou.com/church/7320/service-and-events/events/7
 81090/
END:VEVENT
BEGIN:VEVENT
SUMMARY:All Age Worship
DTSTART;TZID=Europe/London:20260705T093000
DTEND;TZID=Europe/London:20260705T101500
DTSTAMP:20260423T073212Z
UID:7810941783240200.0achurchnearyou
CATEGORIES:
DESCRIPTION:Our family friendly\, interactive service for All Ages
GEO:-1.740783;52.54871
LOCATION:St Chad\, Wishaw
URL:https://www.achurchnearyou.com/church/7320/service-and-events/events/7
 81094/
END:VEVENT
BEGIN:VEVENT
SUMMARY:Morning Worship
DTSTART;TZID=Europe/London:20260712T093000
DTEND;TZID=Europe/London:20260712T103000
DTSTAMP:20260423T073212Z
UID:7810901783845000.0achurchnearyou
CATEGORIES:
DESCRIPTION:Our regular Sunday Eucharistic Worship
GEO:-1.740783;52.54871
LOCATION:St Chad\, Wishaw
URL:https://www.achurchnearyou.com/church/7320/service-and-events/events/7
 81090/
END:VEVENT
BEGIN:VEVENT
SUMMARY:Family Communion
DTSTART;TZID=Europe/London:20260719T093000
DTEND;TZID=Europe/London:20260719T103000
DTSTAMP:20260423T073212Z
UID:9092941784449800.0achurchnearyou
CATEGORIES:
DESCRIPTION:Our monthly Parish Family Communion service designed to be fam
 ily friendly.
GEO:-1.740783;52.54871
LOCATION:St Chad\, Wishaw
URL:https://www.achurchnearyou.com/church/7320/service-and-events/events/9
 09294/
END:VEVENT
BEGIN:VEVENT
SUMMARY:Morning Worship
DTSTART;TZID=Europe/London:20260726T093000
DTEND;TZID=Europe/London:20260726T103000
DTSTAMP:20260423T073212Z
UID:7810901785054600.0achurchnearyou
CATEGORIES:
DESCRIPTION:Our regular Sunday Eucharistic Worship
GEO:-1.740783;52.54871
LOCATION:St Chad\, Wishaw
URL:https://www.achurchnearyou.com/church/7320/service-and-events/events/7
 81090/
END:VEVENT
BEGIN:VEVENT
SUMMARY:All Age Worship
DTSTART;TZID=Europe/London:20260802T093000
DTEND;TZID=Europe/London:20260802T101500
DTSTAMP:20260423T073212Z
UID:7810941785659400.0achurchnearyou
CATEGORIES:
DESCRIPTION:Our family friendly\, interactive service for All Ages
GEO:-1.740783;52.54871
LOCATION:St Chad\, Wishaw
URL:https://www.achurchnearyou.com/church/7320/service-and-events/events/7
 81094/
END:VEVENT
BEGIN:VEVENT
SUMMARY:Morning Worship
DTSTART;TZID=Europe/London:20260809T093000
DTEND;TZID=Europe/London:20260809T103000
DTSTAMP:20260423T073212Z
UID:7810901786264200.0achurchnearyou
CATEGORIES:
DESCRIPTION:Our regular Sunday Eucharistic Worship
GEO:-1.740783;52.54871
LOCATION:St Chad\, Wishaw
URL:https://www.achurchnearyou.com/church/7320/service-and-events/events/7
 81090/
END:VEVENT
BEGIN:VEVENT
SUMMARY:Family Communion
DTSTART;TZID=Europe/London:20260816T093000
DTEND;TZID=Europe/London:20260816T103000
DTSTAMP:20260423T073212Z
UID:9092941786869000.0achurchnearyou
CATEGORIES:
DESCRIPTION:Our monthly Parish Family Communion service designed to be fam
 ily friendly.
GEO:-1.740783;52.54871
LOCATION:St Chad\, Wishaw
URL:https://www.achurchnearyou.com/church/7320/service-and-events/events/9
 09294/
END:VEVENT
BEGIN:VEVENT
SUMMARY:Morning Worship
DTSTART;TZID=Europe/London:20260823T093000
DTEND;TZID=Europe/London:20260823T103000
DTSTAMP:20260423T073212Z
UID:7810901787473800.0achurchnearyou
CATEGORIES:
DESCRIPTION:Our regular Sunday Eucharistic Worship
GEO:-1.740783;52.54871
LOCATION:St Chad\, Wishaw
URL:https://www.achurchnearyou.com/church/7320/service-and-events/events/7
 81090/
END:VEVENT
BEGIN:VEVENT
SUMMARY:Morning Worship
DTSTART;TZID=Europe/London:20260830T093000
DTEND;TZID=Europe/London:20260830T103000
DTSTAMP:20260423T073212Z
UID:7810901788078600.0achurchnearyou
CATEGORIES:
DESCRIPTION:Our regular Sunday Eucharistic Worship
GEO:-1.740783;52.54871
LOCATION:St Chad\, Wishaw
URL:https://www.achurchnearyou.com/church/7320/service-and-events/events/7
 81090/
END:VEVENT
BEGIN:VEVENT
SUMMARY:All Age Worship
DTSTART;TZID=Europe/London:20260906T093000
DTEND;TZID=Europe/London:20260906T101500
DTSTAMP:20260423T073212Z
UID:7810941788683400.0achurchnearyou
CATEGORIES:
DESCRIPTION:Our family friendly\, interactive service for All Ages
GEO:-1.740783;52.54871
LOCATION:St Chad\, Wishaw
URL:https://www.achurchnearyou.com/church/7320/service-and-events/events/7
 81094/
END:VEVENT
BEGIN:VEVENT
SUMMARY:Morning Worship
DTSTART;TZID=Europe/London:20260913T093000
DTEND;TZID=Europe/London:20260913T103000
DTSTAMP:20260423T073212Z
UID:7810901789288200.0achurchnearyou
CATEGORIES:
DESCRIPTION:Our regular Sunday Eucharistic Worship
GEO:-1.740783;52.54871
LOCATION:St Chad\, Wishaw
URL:https://www.achurchnearyou.com/church/7320/service-and-events/events/7
 81090/
END:VEVENT
BEGIN:VEVENT
SUMMARY:Family Communion
DTSTART;TZID=Europe/London:20260920T093000
DTEND;TZID=Europe/London:20260920T103000
DTSTAMP:20260423T073212Z
UID:9092941789893000.0achurchnearyou
CATEGORIES:
DESCRIPTION:Our monthly Parish Family Communion service designed to be fam
 ily friendly.
GEO:-1.740783;52.54871
LOCATION:St Chad\, Wishaw
URL:https://www.achurchnearyou.com/church/7320/service-and-events/events/9
 09294/
END:VEVENT
BEGIN:VEVENT
SUMMARY:Morning Worship
DTSTART;TZID=Europe/London:20260927T093000
DTEND;TZID=Europe/London:20260927T103000
DTSTAMP:20260423T073212Z
UID:7810901790497800.0achurchnearyou
CATEGORIES:
DESCRIPTION:Our regular Sunday Eucharistic Worship
GEO:-1.740783;52.54871
LOCATION:St Chad\, Wishaw
URL:https://www.achurchnearyou.com/church/7320/service-and-events/events/7
 81090/
END:VEVENT
END:VCALENDAR
