BEGIN:VCALENDAR
VERSION:2.0
PRODID:-//achurchnearyou.com//eventfeed//EN
CALSCALE:GREGORIAN
METHOD:PUBLISH
X-WR-TIMEZONE:UTC
BEGIN:VEVENT
SUMMARY:St. Mary's Brownie Pack Meeting
DTSTART;TZID=Europe/London:20260424T181500
DTEND;TZID=Europe/London:20260424T201500
DTSTAMP:20260424T195500Z
UID:634832026-04-24 18:15:00+01:00achurchnearyou
CATEGORIES:
DESCRIPTION:For more information please contact Mrs C Redpath (Brown Owl) 
 on 0121 742 0024
GEO:-1.824994;52.447673
LOCATION:St. Mary's
URL:https://www.achurchnearyou.com/church/7322/service-and-events/events/6
 3483/
END:VEVENT
BEGIN:VEVENT
SUMMARY:St. Mary's Brownie Pack Meeting
DTSTART;TZID=Europe/London:20260501T181500
DTEND;TZID=Europe/London:20260501T201500
DTSTAMP:20260424T195500Z
UID:634832026-05-01 18:15:00+01:00achurchnearyou
CATEGORIES:
DESCRIPTION:For more information please contact Mrs C Redpath (Brown Owl) 
 on 0121 742 0024
GEO:-1.824994;52.447673
LOCATION:St. Mary's
URL:https://www.achurchnearyou.com/church/7322/service-and-events/events/6
 3483/
END:VEVENT
BEGIN:VEVENT
SUMMARY:St. Mary's Brownie Pack Meeting
DTSTART;TZID=Europe/London:20260508T181500
DTEND;TZID=Europe/London:20260508T201500
DTSTAMP:20260424T195500Z
UID:634832026-05-08 18:15:00+01:00achurchnearyou
CATEGORIES:
DESCRIPTION:For more information please contact Mrs C Redpath (Brown Owl) 
 on 0121 742 0024
GEO:-1.824994;52.447673
LOCATION:St. Mary's
URL:https://www.achurchnearyou.com/church/7322/service-and-events/events/6
 3483/
END:VEVENT
BEGIN:VEVENT
SUMMARY:St. Mary's Brownie Pack Meeting
DTSTART;TZID=Europe/London:20260515T181500
DTEND;TZID=Europe/London:20260515T201500
DTSTAMP:20260424T195500Z
UID:634832026-05-15 18:15:00+01:00achurchnearyou
CATEGORIES:
DESCRIPTION:For more information please contact Mrs C Redpath (Brown Owl) 
 on 0121 742 0024
GEO:-1.824994;52.447673
LOCATION:St. Mary's
URL:https://www.achurchnearyou.com/church/7322/service-and-events/events/6
 3483/
END:VEVENT
BEGIN:VEVENT
SUMMARY:St. Mary's Brownie Pack Meeting
DTSTART;TZID=Europe/London:20260522T181500
DTEND;TZID=Europe/London:20260522T201500
DTSTAMP:20260424T195500Z
UID:634832026-05-22 18:15:00+01:00achurchnearyou
CATEGORIES:
DESCRIPTION:For more information please contact Mrs C Redpath (Brown Owl) 
 on 0121 742 0024
GEO:-1.824994;52.447673
LOCATION:St. Mary's
URL:https://www.achurchnearyou.com/church/7322/service-and-events/events/6
 3483/
END:VEVENT
BEGIN:VEVENT
SUMMARY:St. Mary's Brownie Pack Meeting
DTSTART;TZID=Europe/London:20260529T181500
DTEND;TZID=Europe/London:20260529T201500
DTSTAMP:20260424T195500Z
UID:634832026-05-29 18:15:00+01:00achurchnearyou
CATEGORIES:
DESCRIPTION:For more information please contact Mrs C Redpath (Brown Owl) 
 on 0121 742 0024
GEO:-1.824994;52.447673
LOCATION:St. Mary's
URL:https://www.achurchnearyou.com/church/7322/service-and-events/events/6
 3483/
END:VEVENT
BEGIN:VEVENT
SUMMARY:St. Mary's Brownie Pack Meeting
DTSTART;TZID=Europe/London:20260605T181500
DTEND;TZID=Europe/London:20260605T201500
DTSTAMP:20260424T195500Z
UID:634832026-06-05 18:15:00+01:00achurchnearyou
CATEGORIES:
DESCRIPTION:For more information please contact Mrs C Redpath (Brown Owl) 
 on 0121 742 0024
GEO:-1.824994;52.447673
LOCATION:St. Mary's
URL:https://www.achurchnearyou.com/church/7322/service-and-events/events/6
 3483/
END:VEVENT
BEGIN:VEVENT
SUMMARY:St. Mary's Brownie Pack Meeting
DTSTART;TZID=Europe/London:20260612T181500
DTEND;TZID=Europe/London:20260612T201500
DTSTAMP:20260424T195500Z
UID:634832026-06-12 18:15:00+01:00achurchnearyou
CATEGORIES:
DESCRIPTION:For more information please contact Mrs C Redpath (Brown Owl) 
 on 0121 742 0024
GEO:-1.824994;52.447673
LOCATION:St. Mary's
URL:https://www.achurchnearyou.com/church/7322/service-and-events/events/6
 3483/
END:VEVENT
BEGIN:VEVENT
SUMMARY:St. Mary's Brownie Pack Meeting
DTSTART;TZID=Europe/London:20260619T181500
DTEND;TZID=Europe/London:20260619T201500
DTSTAMP:20260424T195500Z
UID:634832026-06-19 18:15:00+01:00achurchnearyou
CATEGORIES:
DESCRIPTION:For more information please contact Mrs C Redpath (Brown Owl) 
 on 0121 742 0024
GEO:-1.824994;52.447673
LOCATION:St. Mary's
URL:https://www.achurchnearyou.com/church/7322/service-and-events/events/6
 3483/
END:VEVENT
BEGIN:VEVENT
SUMMARY:St. Mary's Brownie Pack Meeting
DTSTART;TZID=Europe/London:20260626T181500
DTEND;TZID=Europe/London:20260626T201500
DTSTAMP:20260424T195500Z
UID:634832026-06-26 18:15:00+01:00achurchnearyou
CATEGORIES:
DESCRIPTION:For more information please contact Mrs C Redpath (Brown Owl) 
 on 0121 742 0024
GEO:-1.824994;52.447673
LOCATION:St. Mary's
URL:https://www.achurchnearyou.com/church/7322/service-and-events/events/6
 3483/
END:VEVENT
BEGIN:VEVENT
SUMMARY:St. Mary's Brownie Pack Meeting
DTSTART;TZID=Europe/London:20260703T181500
DTEND;TZID=Europe/London:20260703T201500
DTSTAMP:20260424T195500Z
UID:634832026-07-03 18:15:00+01:00achurchnearyou
CATEGORIES:
DESCRIPTION:For more information please contact Mrs C Redpath (Brown Owl) 
 on 0121 742 0024
GEO:-1.824994;52.447673
LOCATION:St. Mary's
URL:https://www.achurchnearyou.com/church/7322/service-and-events/events/6
 3483/
END:VEVENT
BEGIN:VEVENT
SUMMARY:St. Mary's Brownie Pack Meeting
DTSTART;TZID=Europe/London:20260710T181500
DTEND;TZID=Europe/London:20260710T201500
DTSTAMP:20260424T195500Z
UID:634832026-07-10 18:15:00+01:00achurchnearyou
CATEGORIES:
DESCRIPTION:For more information please contact Mrs C Redpath (Brown Owl) 
 on 0121 742 0024
GEO:-1.824994;52.447673
LOCATION:St. Mary's
URL:https://www.achurchnearyou.com/church/7322/service-and-events/events/6
 3483/
END:VEVENT
BEGIN:VEVENT
SUMMARY:St. Mary's Brownie Pack Meeting
DTSTART;TZID=Europe/London:20260717T181500
DTEND;TZID=Europe/London:20260717T201500
DTSTAMP:20260424T195500Z
UID:634832026-07-17 18:15:00+01:00achurchnearyou
CATEGORIES:
DESCRIPTION:For more information please contact Mrs C Redpath (Brown Owl) 
 on 0121 742 0024
GEO:-1.824994;52.447673
LOCATION:St. Mary's
URL:https://www.achurchnearyou.com/church/7322/service-and-events/events/6
 3483/
END:VEVENT
BEGIN:VEVENT
SUMMARY:St. Mary's Brownie Pack Meeting
DTSTART;TZID=Europe/London:20260724T181500
DTEND;TZID=Europe/London:20260724T201500
DTSTAMP:20260424T195500Z
UID:634832026-07-24 18:15:00+01:00achurchnearyou
CATEGORIES:
DESCRIPTION:For more information please contact Mrs C Redpath (Brown Owl) 
 on 0121 742 0024
GEO:-1.824994;52.447673
LOCATION:St. Mary's
URL:https://www.achurchnearyou.com/church/7322/service-and-events/events/6
 3483/
END:VEVENT
BEGIN:VEVENT
SUMMARY:St. Mary's Brownie Pack Meeting
DTSTART;TZID=Europe/London:20260731T181500
DTEND;TZID=Europe/London:20260731T201500
DTSTAMP:20260424T195500Z
UID:634832026-07-31 18:15:00+01:00achurchnearyou
CATEGORIES:
DESCRIPTION:For more information please contact Mrs C Redpath (Brown Owl) 
 on 0121 742 0024
GEO:-1.824994;52.447673
LOCATION:St. Mary's
URL:https://www.achurchnearyou.com/church/7322/service-and-events/events/6
 3483/
END:VEVENT
BEGIN:VEVENT
SUMMARY:St. Mary's Brownie Pack Meeting
DTSTART;TZID=Europe/London:20260807T181500
DTEND;TZID=Europe/London:20260807T201500
DTSTAMP:20260424T195500Z
UID:634832026-08-07 18:15:00+01:00achurchnearyou
CATEGORIES:
DESCRIPTION:For more information please contact Mrs C Redpath (Brown Owl) 
 on 0121 742 0024
GEO:-1.824994;52.447673
LOCATION:St. Mary's
URL:https://www.achurchnearyou.com/church/7322/service-and-events/events/6
 3483/
END:VEVENT
BEGIN:VEVENT
SUMMARY:St. Mary's Brownie Pack Meeting
DTSTART;TZID=Europe/London:20260814T181500
DTEND;TZID=Europe/London:20260814T201500
DTSTAMP:20260424T195500Z
UID:634832026-08-14 18:15:00+01:00achurchnearyou
CATEGORIES:
DESCRIPTION:For more information please contact Mrs C Redpath (Brown Owl) 
 on 0121 742 0024
GEO:-1.824994;52.447673
LOCATION:St. Mary's
URL:https://www.achurchnearyou.com/church/7322/service-and-events/events/6
 3483/
END:VEVENT
BEGIN:VEVENT
SUMMARY:St. Mary's Brownie Pack Meeting
DTSTART;TZID=Europe/London:20260821T181500
DTEND;TZID=Europe/London:20260821T201500
DTSTAMP:20260424T195500Z
UID:634832026-08-21 18:15:00+01:00achurchnearyou
CATEGORIES:
DESCRIPTION:For more information please contact Mrs C Redpath (Brown Owl) 
 on 0121 742 0024
GEO:-1.824994;52.447673
LOCATION:St. Mary's
URL:https://www.achurchnearyou.com/church/7322/service-and-events/events/6
 3483/
END:VEVENT
BEGIN:VEVENT
SUMMARY:St. Mary's Brownie Pack Meeting
DTSTART;TZID=Europe/London:20260828T181500
DTEND;TZID=Europe/London:20260828T201500
DTSTAMP:20260424T195500Z
UID:634832026-08-28 18:15:00+01:00achurchnearyou
CATEGORIES:
DESCRIPTION:For more information please contact Mrs C Redpath (Brown Owl) 
 on 0121 742 0024
GEO:-1.824994;52.447673
LOCATION:St. Mary's
URL:https://www.achurchnearyou.com/church/7322/service-and-events/events/6
 3483/
END:VEVENT
BEGIN:VEVENT
SUMMARY:St. Mary's Brownie Pack Meeting
DTSTART;TZID=Europe/London:20260904T181500
DTEND;TZID=Europe/London:20260904T201500
DTSTAMP:20260424T195500Z
UID:634832026-09-04 18:15:00+01:00achurchnearyou
CATEGORIES:
DESCRIPTION:For more information please contact Mrs C Redpath (Brown Owl) 
 on 0121 742 0024
GEO:-1.824994;52.447673
LOCATION:St. Mary's
URL:https://www.achurchnearyou.com/church/7322/service-and-events/events/6
 3483/
END:VEVENT
BEGIN:VEVENT
SUMMARY:St. Mary's Brownie Pack Meeting
DTSTART;TZID=Europe/London:20260911T181500
DTEND;TZID=Europe/London:20260911T201500
DTSTAMP:20260424T195500Z
UID:634832026-09-11 18:15:00+01:00achurchnearyou
CATEGORIES:
DESCRIPTION:For more information please contact Mrs C Redpath (Brown Owl) 
 on 0121 742 0024
GEO:-1.824994;52.447673
LOCATION:St. Mary's
URL:https://www.achurchnearyou.com/church/7322/service-and-events/events/6
 3483/
END:VEVENT
BEGIN:VEVENT
SUMMARY:St. Mary's Brownie Pack Meeting
DTSTART;TZID=Europe/London:20260918T181500
DTEND;TZID=Europe/London:20260918T201500
DTSTAMP:20260424T195500Z
UID:634832026-09-18 18:15:00+01:00achurchnearyou
CATEGORIES:
DESCRIPTION:For more information please contact Mrs C Redpath (Brown Owl) 
 on 0121 742 0024
GEO:-1.824994;52.447673
LOCATION:St. Mary's
URL:https://www.achurchnearyou.com/church/7322/service-and-events/events/6
 3483/
END:VEVENT
BEGIN:VEVENT
SUMMARY:St. Mary's Brownie Pack Meeting
DTSTART;TZID=Europe/London:20260925T181500
DTEND;TZID=Europe/London:20260925T201500
DTSTAMP:20260424T195500Z
UID:634832026-09-25 18:15:00+01:00achurchnearyou
CATEGORIES:
DESCRIPTION:For more information please contact Mrs C Redpath (Brown Owl) 
 on 0121 742 0024
GEO:-1.824994;52.447673
LOCATION:St. Mary's
URL:https://www.achurchnearyou.com/church/7322/service-and-events/events/6
 3483/
END:VEVENT
BEGIN:VEVENT
SUMMARY:St. Mary's Brownie Pack Meeting
DTSTART;TZID=Europe/London:20261002T181500
DTEND;TZID=Europe/London:20261002T201500
DTSTAMP:20260424T195500Z
UID:634832026-10-02 18:15:00+01:00achurchnearyou
CATEGORIES:
DESCRIPTION:For more information please contact Mrs C Redpath (Brown Owl) 
 on 0121 742 0024
GEO:-1.824994;52.447673
LOCATION:St. Mary's
URL:https://www.achurchnearyou.com/church/7322/service-and-events/events/6
 3483/
END:VEVENT
BEGIN:VEVENT
SUMMARY:St. Mary's Brownie Pack Meeting
DTSTART;TZID=Europe/London:20261009T181500
DTEND;TZID=Europe/London:20261009T201500
DTSTAMP:20260424T195500Z
UID:634832026-10-09 18:15:00+01:00achurchnearyou
CATEGORIES:
DESCRIPTION:For more information please contact Mrs C Redpath (Brown Owl) 
 on 0121 742 0024
GEO:-1.824994;52.447673
LOCATION:St. Mary's
URL:https://www.achurchnearyou.com/church/7322/service-and-events/events/6
 3483/
END:VEVENT
BEGIN:VEVENT
SUMMARY:St. Mary's Brownie Pack Meeting
DTSTART;TZID=Europe/London:20261016T181500
DTEND;TZID=Europe/London:20261016T201500
DTSTAMP:20260424T195500Z
UID:634832026-10-16 18:15:00+01:00achurchnearyou
CATEGORIES:
DESCRIPTION:For more information please contact Mrs C Redpath (Brown Owl) 
 on 0121 742 0024
GEO:-1.824994;52.447673
LOCATION:St. Mary's
URL:https://www.achurchnearyou.com/church/7322/service-and-events/events/6
 3483/
END:VEVENT
BEGIN:VEVENT
SUMMARY:St. Mary's Brownie Pack Meeting
DTSTART;TZID=Europe/London:20261023T181500
DTEND;TZID=Europe/London:20261023T201500
DTSTAMP:20260424T195500Z
UID:634832026-10-23 18:15:00+01:00achurchnearyou
CATEGORIES:
DESCRIPTION:For more information please contact Mrs C Redpath (Brown Owl) 
 on 0121 742 0024
GEO:-1.824994;52.447673
LOCATION:St. Mary's
URL:https://www.achurchnearyou.com/church/7322/service-and-events/events/6
 3483/
END:VEVENT
BEGIN:VEVENT
SUMMARY:St. Mary's Brownie Pack Meeting
DTSTART;TZID=Europe/London:20261030T181500
DTEND;TZID=Europe/London:20261030T201500
DTSTAMP:20260424T195500Z
UID:634832026-10-30 18:15:00+00:00achurchnearyou
CATEGORIES:
DESCRIPTION:For more information please contact Mrs C Redpath (Brown Owl) 
 on 0121 742 0024
GEO:-1.824994;52.447673
LOCATION:St. Mary's
URL:https://www.achurchnearyou.com/church/7322/service-and-events/events/6
 3483/
END:VEVENT
BEGIN:VEVENT
SUMMARY:St. Mary's Brownie Pack Meeting
DTSTART;TZID=Europe/London:20261106T181500
DTEND;TZID=Europe/London:20261106T201500
DTSTAMP:20260424T195500Z
UID:634832026-11-06 18:15:00+00:00achurchnearyou
CATEGORIES:
DESCRIPTION:For more information please contact Mrs C Redpath (Brown Owl) 
 on 0121 742 0024
GEO:-1.824994;52.447673
LOCATION:St. Mary's
URL:https://www.achurchnearyou.com/church/7322/service-and-events/events/6
 3483/
END:VEVENT
BEGIN:VEVENT
SUMMARY:St. Mary's Brownie Pack Meeting
DTSTART;TZID=Europe/London:20261113T181500
DTEND;TZID=Europe/London:20261113T201500
DTSTAMP:20260424T195500Z
UID:634832026-11-13 18:15:00+00:00achurchnearyou
CATEGORIES:
DESCRIPTION:For more information please contact Mrs C Redpath (Brown Owl) 
 on 0121 742 0024
GEO:-1.824994;52.447673
LOCATION:St. Mary's
URL:https://www.achurchnearyou.com/church/7322/service-and-events/events/6
 3483/
END:VEVENT
BEGIN:VEVENT
SUMMARY:St. Mary's Brownie Pack Meeting
DTSTART;TZID=Europe/London:20261120T181500
DTEND;TZID=Europe/London:20261120T201500
DTSTAMP:20260424T195500Z
UID:634832026-11-20 18:15:00+00:00achurchnearyou
CATEGORIES:
DESCRIPTION:For more information please contact Mrs C Redpath (Brown Owl) 
 on 0121 742 0024
GEO:-1.824994;52.447673
LOCATION:St. Mary's
URL:https://www.achurchnearyou.com/church/7322/service-and-events/events/6
 3483/
END:VEVENT
BEGIN:VEVENT
SUMMARY:St. Mary's Brownie Pack Meeting
DTSTART;TZID=Europe/London:20261127T181500
DTEND;TZID=Europe/London:20261127T201500
DTSTAMP:20260424T195500Z
UID:634832026-11-27 18:15:00+00:00achurchnearyou
CATEGORIES:
DESCRIPTION:For more information please contact Mrs C Redpath (Brown Owl) 
 on 0121 742 0024
GEO:-1.824994;52.447673
LOCATION:St. Mary's
URL:https://www.achurchnearyou.com/church/7322/service-and-events/events/6
 3483/
END:VEVENT
BEGIN:VEVENT
SUMMARY:St. Mary's Brownie Pack Meeting
DTSTART;TZID=Europe/London:20261204T181500
DTEND;TZID=Europe/London:20261204T201500
DTSTAMP:20260424T195500Z
UID:634832026-12-04 18:15:00+00:00achurchnearyou
CATEGORIES:
DESCRIPTION:For more information please contact Mrs C Redpath (Brown Owl) 
 on 0121 742 0024
GEO:-1.824994;52.447673
LOCATION:St. Mary's
URL:https://www.achurchnearyou.com/church/7322/service-and-events/events/6
 3483/
END:VEVENT
BEGIN:VEVENT
SUMMARY:St. Mary's Brownie Pack Meeting
DTSTART;TZID=Europe/London:20261211T181500
DTEND;TZID=Europe/London:20261211T201500
DTSTAMP:20260424T195500Z
UID:634832026-12-11 18:15:00+00:00achurchnearyou
CATEGORIES:
DESCRIPTION:For more information please contact Mrs C Redpath (Brown Owl) 
 on 0121 742 0024
GEO:-1.824994;52.447673
LOCATION:St. Mary's
URL:https://www.achurchnearyou.com/church/7322/service-and-events/events/6
 3483/
END:VEVENT
BEGIN:VEVENT
SUMMARY:St. Mary's Brownie Pack Meeting
DTSTART;TZID=Europe/London:20261218T181500
DTEND;TZID=Europe/London:20261218T201500
DTSTAMP:20260424T195500Z
UID:634832026-12-18 18:15:00+00:00achurchnearyou
CATEGORIES:
DESCRIPTION:For more information please contact Mrs C Redpath (Brown Owl) 
 on 0121 742 0024
GEO:-1.824994;52.447673
LOCATION:St. Mary's
URL:https://www.achurchnearyou.com/church/7322/service-and-events/events/6
 3483/
END:VEVENT
BEGIN:VEVENT
SUMMARY:St. Mary's Brownie Pack Meeting
DTSTART;TZID=Europe/London:20261225T181500
DTEND;TZID=Europe/London:20261225T201500
DTSTAMP:20260424T195500Z
UID:634832026-12-25 18:15:00+00:00achurchnearyou
CATEGORIES:
DESCRIPTION:For more information please contact Mrs C Redpath (Brown Owl) 
 on 0121 742 0024
GEO:-1.824994;52.447673
LOCATION:St. Mary's
URL:https://www.achurchnearyou.com/church/7322/service-and-events/events/6
 3483/
END:VEVENT
BEGIN:VEVENT
SUMMARY:St. Mary's Brownie Pack Meeting
DTSTART;TZID=Europe/London:20270101T181500
DTEND;TZID=Europe/London:20270101T201500
DTSTAMP:20260424T195500Z
UID:634832027-01-01 18:15:00+00:00achurchnearyou
CATEGORIES:
DESCRIPTION:For more information please contact Mrs C Redpath (Brown Owl) 
 on 0121 742 0024
GEO:-1.824994;52.447673
LOCATION:St. Mary's
URL:https://www.achurchnearyou.com/church/7322/service-and-events/events/6
 3483/
END:VEVENT
BEGIN:VEVENT
SUMMARY:St. Mary's Brownie Pack Meeting
DTSTART;TZID=Europe/London:20270108T181500
DTEND;TZID=Europe/London:20270108T201500
DTSTAMP:20260424T195500Z
UID:634832027-01-08 18:15:00+00:00achurchnearyou
CATEGORIES:
DESCRIPTION:For more information please contact Mrs C Redpath (Brown Owl) 
 on 0121 742 0024
GEO:-1.824994;52.447673
LOCATION:St. Mary's
URL:https://www.achurchnearyou.com/church/7322/service-and-events/events/6
 3483/
END:VEVENT
BEGIN:VEVENT
SUMMARY:St. Mary's Brownie Pack Meeting
DTSTART;TZID=Europe/London:20270115T181500
DTEND;TZID=Europe/London:20270115T201500
DTSTAMP:20260424T195500Z
UID:634832027-01-15 18:15:00+00:00achurchnearyou
CATEGORIES:
DESCRIPTION:For more information please contact Mrs C Redpath (Brown Owl) 
 on 0121 742 0024
GEO:-1.824994;52.447673
LOCATION:St. Mary's
URL:https://www.achurchnearyou.com/church/7322/service-and-events/events/6
 3483/
END:VEVENT
BEGIN:VEVENT
SUMMARY:St. Mary's Brownie Pack Meeting
DTSTART;TZID=Europe/London:20270122T181500
DTEND;TZID=Europe/London:20270122T201500
DTSTAMP:20260424T195500Z
UID:634832027-01-22 18:15:00+00:00achurchnearyou
CATEGORIES:
DESCRIPTION:For more information please contact Mrs C Redpath (Brown Owl) 
 on 0121 742 0024
GEO:-1.824994;52.447673
LOCATION:St. Mary's
URL:https://www.achurchnearyou.com/church/7322/service-and-events/events/6
 3483/
END:VEVENT
BEGIN:VEVENT
SUMMARY:St. Mary's Brownie Pack Meeting
DTSTART;TZID=Europe/London:20270129T181500
DTEND;TZID=Europe/London:20270129T201500
DTSTAMP:20260424T195500Z
UID:634832027-01-29 18:15:00+00:00achurchnearyou
CATEGORIES:
DESCRIPTION:For more information please contact Mrs C Redpath (Brown Owl) 
 on 0121 742 0024
GEO:-1.824994;52.447673
LOCATION:St. Mary's
URL:https://www.achurchnearyou.com/church/7322/service-and-events/events/6
 3483/
END:VEVENT
BEGIN:VEVENT
SUMMARY:St. Mary's Brownie Pack Meeting
DTSTART;TZID=Europe/London:20270205T181500
DTEND;TZID=Europe/London:20270205T201500
DTSTAMP:20260424T195500Z
UID:634832027-02-05 18:15:00+00:00achurchnearyou
CATEGORIES:
DESCRIPTION:For more information please contact Mrs C Redpath (Brown Owl) 
 on 0121 742 0024
GEO:-1.824994;52.447673
LOCATION:St. Mary's
URL:https://www.achurchnearyou.com/church/7322/service-and-events/events/6
 3483/
END:VEVENT
BEGIN:VEVENT
SUMMARY:St. Mary's Brownie Pack Meeting
DTSTART;TZID=Europe/London:20270212T181500
DTEND;TZID=Europe/London:20270212T201500
DTSTAMP:20260424T195500Z
UID:634832027-02-12 18:15:00+00:00achurchnearyou
CATEGORIES:
DESCRIPTION:For more information please contact Mrs C Redpath (Brown Owl) 
 on 0121 742 0024
GEO:-1.824994;52.447673
LOCATION:St. Mary's
URL:https://www.achurchnearyou.com/church/7322/service-and-events/events/6
 3483/
END:VEVENT
BEGIN:VEVENT
SUMMARY:St. Mary's Brownie Pack Meeting
DTSTART;TZID=Europe/London:20270219T181500
DTEND;TZID=Europe/London:20270219T201500
DTSTAMP:20260424T195500Z
UID:634832027-02-19 18:15:00+00:00achurchnearyou
CATEGORIES:
DESCRIPTION:For more information please contact Mrs C Redpath (Brown Owl) 
 on 0121 742 0024
GEO:-1.824994;52.447673
LOCATION:St. Mary's
URL:https://www.achurchnearyou.com/church/7322/service-and-events/events/6
 3483/
END:VEVENT
BEGIN:VEVENT
SUMMARY:St. Mary's Brownie Pack Meeting
DTSTART;TZID=Europe/London:20270226T181500
DTEND;TZID=Europe/London:20270226T201500
DTSTAMP:20260424T195500Z
UID:634832027-02-26 18:15:00+00:00achurchnearyou
CATEGORIES:
DESCRIPTION:For more information please contact Mrs C Redpath (Brown Owl) 
 on 0121 742 0024
GEO:-1.824994;52.447673
LOCATION:St. Mary's
URL:https://www.achurchnearyou.com/church/7322/service-and-events/events/6
 3483/
END:VEVENT
BEGIN:VEVENT
SUMMARY:St. Mary's Brownie Pack Meeting
DTSTART;TZID=Europe/London:20270305T181500
DTEND;TZID=Europe/London:20270305T201500
DTSTAMP:20260424T195500Z
UID:634832027-03-05 18:15:00+00:00achurchnearyou
CATEGORIES:
DESCRIPTION:For more information please contact Mrs C Redpath (Brown Owl) 
 on 0121 742 0024
GEO:-1.824994;52.447673
LOCATION:St. Mary's
URL:https://www.achurchnearyou.com/church/7322/service-and-events/events/6
 3483/
END:VEVENT
BEGIN:VEVENT
SUMMARY:St. Mary's Brownie Pack Meeting
DTSTART;TZID=Europe/London:20270312T181500
DTEND;TZID=Europe/London:20270312T201500
DTSTAMP:20260424T195500Z
UID:634832027-03-12 18:15:00+00:00achurchnearyou
CATEGORIES:
DESCRIPTION:For more information please contact Mrs C Redpath (Brown Owl) 
 on 0121 742 0024
GEO:-1.824994;52.447673
LOCATION:St. Mary's
URL:https://www.achurchnearyou.com/church/7322/service-and-events/events/6
 3483/
END:VEVENT
BEGIN:VEVENT
SUMMARY:St. Mary's Brownie Pack Meeting
DTSTART;TZID=Europe/London:20270319T181500
DTEND;TZID=Europe/London:20270319T201500
DTSTAMP:20260424T195500Z
UID:634832027-03-19 18:15:00+00:00achurchnearyou
CATEGORIES:
DESCRIPTION:For more information please contact Mrs C Redpath (Brown Owl) 
 on 0121 742 0024
GEO:-1.824994;52.447673
LOCATION:St. Mary's
URL:https://www.achurchnearyou.com/church/7322/service-and-events/events/6
 3483/
END:VEVENT
BEGIN:VEVENT
SUMMARY:St. Mary's Brownie Pack Meeting
DTSTART;TZID=Europe/London:20270326T181500
DTEND;TZID=Europe/London:20270326T201500
DTSTAMP:20260424T195500Z
UID:634832027-03-26 18:15:00+00:00achurchnearyou
CATEGORIES:
DESCRIPTION:For more information please contact Mrs C Redpath (Brown Owl) 
 on 0121 742 0024
GEO:-1.824994;52.447673
LOCATION:St. Mary's
URL:https://www.achurchnearyou.com/church/7322/service-and-events/events/6
 3483/
END:VEVENT
BEGIN:VEVENT
SUMMARY:St. Mary's Brownie Pack Meeting
DTSTART;TZID=Europe/London:20270402T181500
DTEND;TZID=Europe/London:20270402T201500
DTSTAMP:20260424T195500Z
UID:634832027-04-02 18:15:00+01:00achurchnearyou
CATEGORIES:
DESCRIPTION:For more information please contact Mrs C Redpath (Brown Owl) 
 on 0121 742 0024
GEO:-1.824994;52.447673
LOCATION:St. Mary's
URL:https://www.achurchnearyou.com/church/7322/service-and-events/events/6
 3483/
END:VEVENT
BEGIN:VEVENT
SUMMARY:St. Mary's Brownie Pack Meeting
DTSTART;TZID=Europe/London:20270409T181500
DTEND;TZID=Europe/London:20270409T201500
DTSTAMP:20260424T195500Z
UID:634832027-04-09 18:15:00+01:00achurchnearyou
CATEGORIES:
DESCRIPTION:For more information please contact Mrs C Redpath (Brown Owl) 
 on 0121 742 0024
GEO:-1.824994;52.447673
LOCATION:St. Mary's
URL:https://www.achurchnearyou.com/church/7322/service-and-events/events/6
 3483/
END:VEVENT
BEGIN:VEVENT
SUMMARY:St. Mary's Brownie Pack Meeting
DTSTART;TZID=Europe/London:20270416T181500
DTEND;TZID=Europe/London:20270416T201500
DTSTAMP:20260424T195500Z
UID:634832027-04-16 18:15:00+01:00achurchnearyou
CATEGORIES:
DESCRIPTION:For more information please contact Mrs C Redpath (Brown Owl) 
 on 0121 742 0024
GEO:-1.824994;52.447673
LOCATION:St. Mary's
URL:https://www.achurchnearyou.com/church/7322/service-and-events/events/6
 3483/
END:VEVENT
BEGIN:VEVENT
SUMMARY:St. Mary's Brownie Pack Meeting
DTSTART;TZID=Europe/London:20270423T181500
DTEND;TZID=Europe/London:20270423T201500
DTSTAMP:20260424T195500Z
UID:634832027-04-23 18:15:00+01:00achurchnearyou
CATEGORIES:
DESCRIPTION:For more information please contact Mrs C Redpath (Brown Owl) 
 on 0121 742 0024
GEO:-1.824994;52.447673
LOCATION:St. Mary's
URL:https://www.achurchnearyou.com/church/7322/service-and-events/events/6
 3483/
END:VEVENT
END:VCALENDAR
