BEGIN:VCALENDAR
VERSION:2.0
PRODID:-//achurchnearyou.com//eventfeed//EN
CALSCALE:GREGORIAN
METHOD:PUBLISH
X-WR-TIMEZONE:UTC
BEGIN:VEVENT
SUMMARY:Midnight Communion Service
DTSTART:20251224T230000Z
DTEND:20251225T001500Z
DTSTAMP:20260421T054042Z
UID:12559282025-12-24 23:00:00+00:00achurchnearyou
CATEGORIES:
DESCRIPTION:Our traditional service of midnight communion - do come and jo
 in us as we welcome Christmas in!
GEO:-1.821203;52.490127
LOCATION:Christ Church Burney Lane
URL:https://www.achurchnearyou.com/church/7325/service-and-events/events/1
 255928/
END:VEVENT
END:VCALENDAR
