BEGIN:VCALENDAR
VERSION:2.0
PRODID:-//achurchnearyou.com//eventfeed//EN
CALSCALE:GREGORIAN
METHOD:PUBLISH
X-WR-TIMEZONE:UTC
BEGIN:VEVENT
SUMMARY:Memorial Service
DTSTART:20251109T183000Z
DTEND:20251109T193000Z
DTSTAMP:20260422T004928Z
UID:12400752025-11-09 18:30:00+00:00achurchnearyou
CATEGORIES:
DESCRIPTION:A quieter service to remember our loved ones by name and light
  candles in their memory. You are welcome whether your loss is recent or l
 ong ago. If you would like the name of your loved one read aloud\, please 
 let us know by 7 November
GEO:0.150285;52.193083
LOCATION:St Martin's Church\, Cambridge
URL:https://www.achurchnearyou.com/church/7345/service-and-events/events/1
 240075/
END:VEVENT
END:VCALENDAR
