BEGIN:VCALENDAR
VERSION:2.0
PRODID:-//achurchnearyou.com//eventfeed//EN
CALSCALE:GREGORIAN
METHOD:PUBLISH
X-WR-TIMEZONE:UTC
BEGIN:VEVENT
SUMMARY:Carols By Candlelight
DTSTART:20251214T183000Z
DTEND:20251214T193000Z
DTSTAMP:20260421T225124Z
UID:12400872025-12-14 18:30:00+00:00achurchnearyou
CATEGORIES:
DESCRIPTION:Come and join us to sing traditional carols by candlelight. Al
 l welcome
GEO:0.150285;52.193083
LOCATION:St Martin's Church\, Cambridge
URL:https://www.achurchnearyou.com/church/7345/service-and-events/events/1
 240087/
END:VEVENT
END:VCALENDAR
