BEGIN:VCALENDAR
VERSION:2.0
PRODID:-//achurchnearyou.com//eventfeed//EN
CALSCALE:GREGORIAN
METHOD:PUBLISH
X-WR-TIMEZONE:UTC
BEGIN:VEVENT
SUMMARY:Midnight Service
DTSTART:20251224T230000Z
DTEND:20251225T003000Z
DTSTAMP:20260422T061235Z
UID:12304852025-12-24 23:00:00+00:00achurchnearyou
CATEGORIES:
DESCRIPTION:Welcome the birth of the Christ Child with carols and readings
  and Holy Communion.
GEO:-0.267071;52.511727
LOCATION:St. Peter's Church\, Yaxley
URL:https://www.achurchnearyou.com/church/7348/service-and-events/events/1
 230485/
END:VEVENT
END:VCALENDAR
