BEGIN:VCALENDAR
VERSION:2.0
PRODID:-//achurchnearyou.com//eventfeed//EN
CALSCALE:GREGORIAN
METHOD:PUBLISH
X-WR-TIMEZONE:UTC
BEGIN:VEVENT
SUMMARY:A Family Communion for Christmas Day
DTSTART:20251225T100000Z
DTEND:20251225T104500Z
DTSTAMP:20260421T054009Z
UID:7018052025-12-25 10:00:00+00:00achurchnearyou
CATEGORIES:
DESCRIPTION:A family friendly communion service to celebrate the joy of Ch
 rist's birth.\nThe service will be live streamed\, click on 'More about th
 is event' to go to the live stream via our YouTube channel.\n'View attachm
 ent' for the service sheet.
GEO:-1.505478;53.688378
LOCATION:St John’s Church\, Wakefield
URL:https://www.youtube.com/channel/UCDyIQ-Vbrv-5bikSlpgV2QQ
END:VEVENT
END:VCALENDAR
